BEGIN:VCALENDAR
VERSION:2.0
PRODID:-//Engage Training - ECPv6.15.12.2//NONSGML v1.0//EN
CALSCALE:GREGORIAN
METHOD:PUBLISH
X-WR-CALNAME:Engage Training
X-ORIGINAL-URL:https://engagetraining.ie
X-WR-CALDESC:Events for Engage Training
REFRESH-INTERVAL;VALUE=DURATION:PT1H
X-Robots-Tag:noindex
X-PUBLISHED-TTL:PT1H
BEGIN:VTIMEZONE
TZID:Europe/Dublin
BEGIN:STANDARD
TZOFFSETFROM:+0000
TZOFFSETTO:+0100
TZNAME:IST
DTSTART:20220327T010000
END:STANDARD
BEGIN:DAYLIGHT
TZOFFSETFROM:+0100
TZOFFSETTO:+0000
TZNAME:GMT
DTSTART:20221030T010000
END:DAYLIGHT
BEGIN:STANDARD
TZOFFSETFROM:+0000
TZOFFSETTO:+0100
TZNAME:IST
DTSTART:20230326T010000
END:STANDARD
BEGIN:DAYLIGHT
TZOFFSETFROM:+0100
TZOFFSETTO:+0000
TZNAME:GMT
DTSTART:20231029T010000
END:DAYLIGHT
BEGIN:STANDARD
TZOFFSETFROM:+0000
TZOFFSETTO:+0100
TZNAME:IST
DTSTART:20240331T010000
END:STANDARD
BEGIN:DAYLIGHT
TZOFFSETFROM:+0100
TZOFFSETTO:+0000
TZNAME:GMT
DTSTART:20241027T010000
END:DAYLIGHT
END:VTIMEZONE
BEGIN:VEVENT
DTSTART;TZID=Europe/Dublin:20230215T093000
DTEND;TZID=Europe/Dublin:20230215T163000
DTSTAMP:20260420T013052
CREATED:20221122T144858Z
LAST-MODIFIED:20230201T115510Z
UID:1550-1676453400-1676478600@engagetraining.ie
SUMMARY:FARM Advisor Workshop (Online)
DESCRIPTION:FARM Advisor Workshop \nOn Feirm Ground – Wellbeing for Farmers \nThis Workshop is endorsed by the Dept of Agriculture\, the H.S.E \, Teagasc and the A.C.A. \nThe Aim of the Workshop is to help agricultural advisors effectively engage with their farming clients on health & wellbeing issues\, and to signpost them to relevant support services. \nVenue: Online: https://us06web.zoom.us/meeting/89976145443 \nDate: Wednesday 15th February\nTime: 9.30am – 4.30pm
URL:https://engagetraining.ie/event/farm-advisor-workshop-online-3/
CATEGORIES:Unit 8: On Feirm Ground
END:VEVENT
END:VCALENDAR