BEGIN:VCALENDAR
VERSION:2.0
PRODID:-//Engage Training - ECPv6.15.12.2//NONSGML v1.0//EN
CALSCALE:GREGORIAN
METHOD:PUBLISH
X-WR-CALNAME:Engage Training
X-ORIGINAL-URL:https://engagetraining.ie
X-WR-CALDESC:Events for Engage Training
REFRESH-INTERVAL;VALUE=DURATION:PT1H
X-Robots-Tag:noindex
X-PUBLISHED-TTL:PT1H
BEGIN:VTIMEZONE
TZID:Europe/Dublin
BEGIN:STANDARD
TZOFFSETFROM:+0000
TZOFFSETTO:+0100
TZNAME:IST
DTSTART:20200329T010000
END:STANDARD
BEGIN:DAYLIGHT
TZOFFSETFROM:+0100
TZOFFSETTO:+0000
TZNAME:GMT
DTSTART:20201025T010000
END:DAYLIGHT
BEGIN:STANDARD
TZOFFSETFROM:+0000
TZOFFSETTO:+0100
TZNAME:IST
DTSTART:20210328T010000
END:STANDARD
BEGIN:DAYLIGHT
TZOFFSETFROM:+0100
TZOFFSETTO:+0000
TZNAME:GMT
DTSTART:20211031T010000
END:DAYLIGHT
BEGIN:STANDARD
TZOFFSETFROM:+0000
TZOFFSETTO:+0100
TZNAME:IST
DTSTART:20220327T010000
END:STANDARD
BEGIN:DAYLIGHT
TZOFFSETFROM:+0100
TZOFFSETTO:+0000
TZNAME:GMT
DTSTART:20221030T010000
END:DAYLIGHT
END:VTIMEZONE
BEGIN:VEVENT
DTSTART;TZID=Europe/Dublin:20211027T093000
DTEND;TZID=Europe/Dublin:20211027T153000
DTSTAMP:20260419T172947
CREATED:20210929T231104Z
LAST-MODIFIED:20211101T153404Z
UID:973-1635327000-1635348600@engagetraining.ie
SUMMARY:FARM Advisor Workshop\, Letterkenny
DESCRIPTION:FARM Advisor Workshop\nOn Feirm Ground – Wellbeing for Farmers\nThis Workshop is endorsed by the Dept of Agriculture\, the H.S.E \, Teagasc and the A.C.A.\nThe Aim of Workshop is to help agricultural advisors effectively engage with their farming clients on health & wellbeing issues\, and to signpost them to relevant support services.\nVenue: Teagasc\, Carnamuggagh Lower\, Knocknamona\, Letterkenny\, Co. Donegal\, F92 VE89 \nDate: Wednesday 27th October\nTime: 9.30am – 4.30pm \nTrainers: Brian Dolan & Paddy Browne\nMentor: Bill Vaughan
URL:https://engagetraining.ie/event/ofg-v5/
LOCATION:Teagasc\, Letterkenny\, Teagasc\, Carnamuggagh Lower\, Knocknamona\,\, Letterkenny\,\, Co. Donegal\, F92VE89
CATEGORIES:Unit 8: On Feirm Ground
GEO:54.9658966;-7.7299842
X-APPLE-STRUCTURED-LOCATION;VALUE=URI;X-ADDRESS=Teagasc Letterkenny Teagasc Carnamuggagh Lower Knocknamona Letterkenny Co. Donegal F92VE89;X-APPLE-RADIUS=500;X-TITLE=Teagasc\, Carnamuggagh Lower\, Knocknamona\,:geo:-7.7299842,54.9658966
END:VEVENT
END:VCALENDAR