BEGIN:VCALENDAR
VERSION:2.0
PRODID:-//Engage Training - ECPv6.15.12.2//NONSGML v1.0//EN
CALSCALE:GREGORIAN
METHOD:PUBLISH
X-WR-CALNAME:Engage Training
X-ORIGINAL-URL:https://engagetraining.ie
X-WR-CALDESC:Events for Engage Training
REFRESH-INTERVAL;VALUE=DURATION:PT1H
X-Robots-Tag:noindex
X-PUBLISHED-TTL:PT1H
BEGIN:VTIMEZONE
TZID:Europe/Dublin
BEGIN:STANDARD
TZOFFSETFROM:+0000
TZOFFSETTO:+0100
TZNAME:IST
DTSTART:20230326T010000
END:STANDARD
BEGIN:DAYLIGHT
TZOFFSETFROM:+0100
TZOFFSETTO:+0000
TZNAME:GMT
DTSTART:20231029T010000
END:DAYLIGHT
BEGIN:STANDARD
TZOFFSETFROM:+0000
TZOFFSETTO:+0100
TZNAME:IST
DTSTART:20240331T010000
END:STANDARD
BEGIN:DAYLIGHT
TZOFFSETFROM:+0100
TZOFFSETTO:+0000
TZNAME:GMT
DTSTART:20241027T010000
END:DAYLIGHT
BEGIN:STANDARD
TZOFFSETFROM:+0000
TZOFFSETTO:+0100
TZNAME:IST
DTSTART:20250330T010000
END:STANDARD
BEGIN:DAYLIGHT
TZOFFSETFROM:+0100
TZOFFSETTO:+0000
TZNAME:GMT
DTSTART:20251026T010000
END:DAYLIGHT
END:VTIMEZONE
BEGIN:VEVENT
DTSTART;TZID=Europe/Dublin:20240618T090000
DTEND;TZID=Europe/Dublin:20240618T153000
DTSTAMP:20260419T231403
CREATED:20240524T100327Z
LAST-MODIFIED:20240524T100902Z
UID:1810-1718701200-1718724600@engagetraining.ie
SUMMARY:On Feirm Ground 2
DESCRIPTION:On Feirm Ground 2 – Wellbeing for Farmers \n  \nThis training is endorsed by the Dept of Agriculture\, Food and Marine\, Department of Health and the H.S.E. \n  \nThe Aim of the training is to equip agricultural professionals and service providers of all genders\, who interact with farmers on the farm\, in the office and over the phone with skills to effectively engage with farmers on their health & wellbeing\, and to signpost farmers who may be struggling relevant support services. \n  \nThe E-learning Component: You will receive a link a week before your in-person workshop. You are required to complete the 2hours self-paced E-learning before you into the room. \n  \n 
URL:https://engagetraining.ie/event/on-feirm-ground-2-12/
LOCATION:ACT Business Development Centre\, Athlone\, Ball Alley Lane\, Athlone\, N37 C8W6\, Ireland
CATEGORIES:Unit 8.1 On Feirm Ground
GEO:53.4219594;-7.9444265
X-APPLE-STRUCTURED-LOCATION;VALUE=URI;X-ADDRESS=ACT Business Development Centre Athlone Ball Alley Lane Athlone N37 C8W6 Ireland;X-APPLE-RADIUS=500;X-TITLE=Ball Alley Lane:geo:-7.9444265,53.4219594
END:VEVENT
END:VCALENDAR