BEGIN:VCALENDAR
VERSION:2.0
PRODID:-//Engage Training - ECPv6.15.12.2//NONSGML v1.0//EN
CALSCALE:GREGORIAN
METHOD:PUBLISH
X-WR-CALNAME:Engage Training
X-ORIGINAL-URL:https://engagetraining.ie
X-WR-CALDESC:Events for Engage Training
REFRESH-INTERVAL;VALUE=DURATION:PT1H
X-Robots-Tag:noindex
X-PUBLISHED-TTL:PT1H
BEGIN:VTIMEZONE
TZID:Europe/Dublin
BEGIN:STANDARD
TZOFFSETFROM:+0000
TZOFFSETTO:+0100
TZNAME:IST
DTSTART:20240331T010000
END:STANDARD
BEGIN:DAYLIGHT
TZOFFSETFROM:+0100
TZOFFSETTO:+0000
TZNAME:GMT
DTSTART:20241027T010000
END:DAYLIGHT
BEGIN:STANDARD
TZOFFSETFROM:+0000
TZOFFSETTO:+0100
TZNAME:IST
DTSTART:20250330T010000
END:STANDARD
BEGIN:DAYLIGHT
TZOFFSETFROM:+0100
TZOFFSETTO:+0000
TZNAME:GMT
DTSTART:20251026T010000
END:DAYLIGHT
BEGIN:STANDARD
TZOFFSETFROM:+0000
TZOFFSETTO:+0100
TZNAME:IST
DTSTART:20260329T010000
END:STANDARD
BEGIN:DAYLIGHT
TZOFFSETFROM:+0100
TZOFFSETTO:+0000
TZNAME:GMT
DTSTART:20261025T010000
END:DAYLIGHT
END:VTIMEZONE
BEGIN:VEVENT
DTSTART;TZID=Europe/Dublin:20250130T091500
DTEND;TZID=Europe/Dublin:20250130T153000
DTSTAMP:20260419T231409
CREATED:20250121T085642Z
LAST-MODIFIED:20250122T155451Z
UID:2225-1738228500-1738251000@engagetraining.ie
SUMMARY:Private Event: On Feirm Ground 2
DESCRIPTION:On Feirm Ground 2 – Wellbeing for Farmers \nThis training is endorsed by the Dept of Agriculture\, Food and the Marine\, Department of Health and the H.S.E. \nThe aim of the training is to equip agricultural professionals and service providers of all genders\, who interact with farmers on the farm\, in the office and over the phone with skills to effectively engage with farmers on their health & wellbeing\, and to signpost farmers who may be struggling relevant support services. \nThe E-learning Component: You will receive a link a week before your in-person workshop. You are required to complete the 2hours self-paced E-learning before you into the room.
URL:https://engagetraining.ie/event/private-event-on-feirm-ground-2/
LOCATION:MTU North Campus
CATEGORIES:Unit 8.1 On Feirm Ground
END:VEVENT
END:VCALENDAR