BEGIN:VCALENDAR
VERSION:2.0
PRODID:-//Engage Training - ECPv6.15.12.2//NONSGML v1.0//EN
CALSCALE:GREGORIAN
METHOD:PUBLISH
X-WR-CALNAME:Engage Training
X-ORIGINAL-URL:https://engagetraining.ie
X-WR-CALDESC:Events for Engage Training
REFRESH-INTERVAL;VALUE=DURATION:PT1H
X-Robots-Tag:noindex
X-PUBLISHED-TTL:PT1H
BEGIN:VTIMEZONE
TZID:Europe/Dublin
BEGIN:STANDARD
TZOFFSETFROM:+0000
TZOFFSETTO:+0100
TZNAME:IST
DTSTART:20240331T010000
END:STANDARD
BEGIN:DAYLIGHT
TZOFFSETFROM:+0100
TZOFFSETTO:+0000
TZNAME:GMT
DTSTART:20241027T010000
END:DAYLIGHT
BEGIN:STANDARD
TZOFFSETFROM:+0000
TZOFFSETTO:+0100
TZNAME:IST
DTSTART:20250330T010000
END:STANDARD
BEGIN:DAYLIGHT
TZOFFSETFROM:+0100
TZOFFSETTO:+0000
TZNAME:GMT
DTSTART:20251026T010000
END:DAYLIGHT
BEGIN:STANDARD
TZOFFSETFROM:+0000
TZOFFSETTO:+0100
TZNAME:IST
DTSTART:20260329T010000
END:STANDARD
BEGIN:DAYLIGHT
TZOFFSETFROM:+0100
TZOFFSETTO:+0000
TZNAME:GMT
DTSTART:20261025T010000
END:DAYLIGHT
END:VTIMEZONE
BEGIN:VEVENT
DTSTART;TZID=Europe/Dublin:20250114T091500
DTEND;TZID=Europe/Dublin:20250114T153000
DTSTAMP:20260420T202625
CREATED:20241120T093114Z
LAST-MODIFIED:20250107T125818Z
UID:10000170-1736846100-1736868600@engagetraining.ie
SUMMARY:On Feirm Ground 2
DESCRIPTION:On Feirm Ground 2 – Wellbeing for Farmers \nThis training is endorsed by the Dept of Agriculture\, Food and the Marine\, Department of Health and the H.S.E. \nThe aim of the training is to equip agricultural professionals and service providers of all genders\, who interact with farmers on the farm\, in the office and over the phone with skills to effectively engage with farmers on their health & wellbeing\, and to signpost farmers who may be struggling relevant support services. \nThe E-learning Component: You will receive a link a week before your in-person workshop. You are required to complete the 2hours self-paced E-learning before you into the room.
URL:https://engagetraining.ie/event/on-feirm-ground-2-56/
CATEGORIES:Unit 8.1 On Feirm Ground
END:VEVENT
BEGIN:VEVENT
DTSTART;TZID=Europe/Dublin:20250116T091500
DTEND;TZID=Europe/Dublin:20250116T153000
DTSTAMP:20260420T202625
CREATED:20241120T093642Z
LAST-MODIFIED:20250108T123101Z
UID:10000171-1737018900-1737041400@engagetraining.ie
SUMMARY:On Feirm Ground 2
DESCRIPTION:On Feirm Ground 2 – Wellbeing for Farmers \nThis training is endorsed by the Dept of Agriculture\, Food and the Marine\, Department of Health and the H.S.E. \nThe aim of the training is to equip agricultural professionals and service providers of all genders\, who interact with farmers on the farm\, in the office and over the phone with skills to effectively engage with farmers on their health & wellbeing\, and to signpost farmers who may be struggling relevant support services. \nThe E-learning Component: You will receive a link a week before your in-person workshop. You are required to complete the 2hours self-paced E-learning before you into the room.
URL:https://engagetraining.ie/event/on-feirm-ground-2-57/
CATEGORIES:Unit 8.1 On Feirm Ground
END:VEVENT
BEGIN:VEVENT
DTSTART;TZID=Europe/Dublin:20250121T091500
DTEND;TZID=Europe/Dublin:20250121T153000
DTSTAMP:20260420T202625
CREATED:20241120T095037Z
LAST-MODIFIED:20250113T153853Z
UID:10000172-1737450900-1737473400@engagetraining.ie
SUMMARY:On Feirm Ground 2
DESCRIPTION:On Feirm Ground 2 – Wellbeing for Farmers \nThis training is endorsed by the Dept of Agriculture\, Food and the Marine\, Department of Health and the H.S.E. \nThe aim of the training is to equip agricultural professionals and service providers of all genders\, who interact with farmers on the farm\, in the office and over the phone with skills to effectively engage with farmers on their health & wellbeing\, and to signpost farmers who may be struggling relevant support services. \nThe E-learning Component: You will receive a link a week before your in-person workshop. You are required to complete the 2hours self-paced E-learning before you into the room.
URL:https://engagetraining.ie/event/on-feirm-ground-2-58/
CATEGORIES:Unit 8.1 On Feirm Ground
END:VEVENT
BEGIN:VEVENT
DTSTART;TZID=Europe/Dublin:20250123T091500
DTEND;TZID=Europe/Dublin:20250123T153000
DTSTAMP:20260420T202625
CREATED:20250107T095637Z
LAST-MODIFIED:20250120T083244Z
UID:10000193-1737623700-1737646200@engagetraining.ie
SUMMARY:On Feirm Ground 2
DESCRIPTION:On Feirm Ground 2 – Wellbeing for Farmers \nThis training is endorsed by the Dept of Agriculture\, Food and the Marine\, Department of Health and the H.S.E. \nThe aim of the training is to equip agricultural professionals and service providers of all genders\, who interact with farmers on the farm\, in the office and over the phone with skills to effectively engage with farmers on their health & wellbeing\, and to signpost farmers who may be struggling relevant support services. \nThe E-learning Component: You will receive a link a week before your in-person workshop. You are required to complete the 2hours self-paced E-learning before you into the room.
URL:https://engagetraining.ie/event/on-feirm-ground-2-78/
CATEGORIES:Unit 8.1 On Feirm Ground
END:VEVENT
BEGIN:VEVENT
DTSTART;TZID=Europe/Dublin:20250128T091500
DTEND;TZID=Europe/Dublin:20250128T153000
DTSTAMP:20260420T202625
CREATED:20241120T151220Z
LAST-MODIFIED:20250122T143246Z
UID:10000188-1738055700-1738078200@engagetraining.ie
SUMMARY:On Feirm Ground 2
DESCRIPTION:On Feirm Ground 2 – Wellbeing for Farmers \nThis training is endorsed by the Dept of Agriculture\, Food and the Marine\, Department of Health and the H.S.E. \nThe aim of the training is to equip agricultural professionals and service providers of all genders\, who interact with farmers on the farm\, in the office and over the phone with skills to effectively engage with farmers on their health & wellbeing\, and to signpost farmers who may be struggling relevant support services. \nThe E-learning Component: You will receive a link a week before your in-person workshop. You are required to complete the 2hours self-paced E-learning before you into the room.
URL:https://engagetraining.ie/event/on-feirm-ground-2-74/
CATEGORIES:Unit 8.1 On Feirm Ground
END:VEVENT
BEGIN:VEVENT
DTSTART;TZID=Europe/Dublin:20250129T091500
DTEND;TZID=Europe/Dublin:20250129T153000
DTSTAMP:20260420T202625
CREATED:20241120T095422Z
LAST-MODIFIED:20241120T095422Z
UID:10000173-1738142100-1738164600@engagetraining.ie
SUMMARY:On Feirm Ground 2
DESCRIPTION:On Feirm Ground 2 – Wellbeing for Farmers \nThis training is endorsed by the Dept of Agriculture\, Food and the Marine\, Department of Health and the H.S.E. \nThe aim of the training is to equip agricultural professionals and service providers of all genders\, who interact with farmers on the farm\, in the office and over the phone with skills to effectively engage with farmers on their health & wellbeing\, and to signpost farmers who may be struggling relevant support services. \nThe E-learning Component: You will receive a link a week before your in-person workshop. You are required to complete the 2hours self-paced E-learning before you into the room.
URL:https://engagetraining.ie/event/on-feirm-ground-2-59/
CATEGORIES:Unit 8.1 On Feirm Ground
END:VEVENT
BEGIN:VEVENT
DTSTART;TZID=Europe/Dublin:20250130T091500
DTEND;TZID=Europe/Dublin:20250130T153000
DTSTAMP:20260420T202625
CREATED:20250121T085642Z
LAST-MODIFIED:20250122T155451Z
UID:10000199-1738228500-1738251000@engagetraining.ie
SUMMARY:Private Event: On Feirm Ground 2
DESCRIPTION:On Feirm Ground 2 – Wellbeing for Farmers \nThis training is endorsed by the Dept of Agriculture\, Food and the Marine\, Department of Health and the H.S.E. \nThe aim of the training is to equip agricultural professionals and service providers of all genders\, who interact with farmers on the farm\, in the office and over the phone with skills to effectively engage with farmers on their health & wellbeing\, and to signpost farmers who may be struggling relevant support services. \nThe E-learning Component: You will receive a link a week before your in-person workshop. You are required to complete the 2hours self-paced E-learning before you into the room.
URL:https://engagetraining.ie/event/private-event-on-feirm-ground-2/
LOCATION:MTU North Campus
CATEGORIES:Unit 8.1 On Feirm Ground
END:VEVENT
END:VCALENDAR