BEGIN:VCALENDAR
VERSION:2.0
PRODID:-//Engage Training - ECPv6.15.12.2//NONSGML v1.0//EN
CALSCALE:GREGORIAN
METHOD:PUBLISH
X-WR-CALNAME:Engage Training
X-ORIGINAL-URL:https://engagetraining.ie
X-WR-CALDESC:Events for Engage Training
REFRESH-INTERVAL;VALUE=DURATION:PT1H
X-Robots-Tag:noindex
X-PUBLISHED-TTL:PT1H
BEGIN:VTIMEZONE
TZID:Europe/Dublin
BEGIN:STANDARD
TZOFFSETFROM:+0000
TZOFFSETTO:+0100
TZNAME:IST
DTSTART:20240331T010000
END:STANDARD
BEGIN:DAYLIGHT
TZOFFSETFROM:+0100
TZOFFSETTO:+0000
TZNAME:GMT
DTSTART:20241027T010000
END:DAYLIGHT
BEGIN:STANDARD
TZOFFSETFROM:+0000
TZOFFSETTO:+0100
TZNAME:IST
DTSTART:20250330T010000
END:STANDARD
BEGIN:DAYLIGHT
TZOFFSETFROM:+0100
TZOFFSETTO:+0000
TZNAME:GMT
DTSTART:20251026T010000
END:DAYLIGHT
BEGIN:STANDARD
TZOFFSETFROM:+0000
TZOFFSETTO:+0100
TZNAME:IST
DTSTART:20260329T010000
END:STANDARD
BEGIN:DAYLIGHT
TZOFFSETFROM:+0100
TZOFFSETTO:+0000
TZNAME:GMT
DTSTART:20261025T010000
END:DAYLIGHT
END:VTIMEZONE
BEGIN:VEVENT
DTSTART;TZID=Europe/Dublin:20251104T090000
DTEND;TZID=Europe/Dublin:20251104T160000
DTSTAMP:20260420T011058
CREATED:20250717T110654Z
LAST-MODIFIED:20251029T115154Z
UID:10000248-1762246800-1762272000@engagetraining.ie
SUMMARY:On Feirm Ground 2 - Wellbeing for Farmers
DESCRIPTION:This training is endorsed by the Dept of Agriculture\, Food and Marine\, Department of Health and the H.S.E. \nThe Aim of the training is to equip agricultural professionals and service providers of all genders\, who interact with farmers on the farm\, in the office and over the phone with skills to effectively engage with farmers on their health & wellbeing\, and to signpost farmers who may be struggling relevant support services. \nThe E-learning Component: You will receive a link a week before your in-person workshop. You are required to complete the 2 hours self-paced E-learning before you go into the room.
URL:https://engagetraining.ie/event/on-feirm-ground-2-wellbeing-for-farmers-13/
LOCATION:Cork City\, Old Cork Waterworks Experience\, Lee Road\, Cork\, T23N828\, Cork\, T23N828\, Ireland
CATEGORIES:Unit 8.1 On Feirm Ground
END:VEVENT
BEGIN:VEVENT
DTSTART;TZID=Europe/Dublin:20251106T090000
DTEND;TZID=Europe/Dublin:20251106T160000
DTSTAMP:20260420T011058
CREATED:20250717T112236Z
LAST-MODIFIED:20251029T115215Z
UID:10000249-1762419600-1762444800@engagetraining.ie
SUMMARY:On Feirm Ground 2 - Wellbeing for Farmers
DESCRIPTION:This training is endorsed by the Dept of Agriculture\, Food and Marine\, Department of Health and the H.S.E. \nThe Aim of the training is to equip agricultural professionals and service providers of all genders\, who interact with farmers on the farm\, in the office and over the phone with skills to effectively engage with farmers on their health & wellbeing\, and to signpost farmers who may be struggling relevant support services. \nThe E-learning Component: You will receive a link a week before your in-person workshop. You are required to complete the 2 hours self-paced E-learning before you go into the room.
URL:https://engagetraining.ie/event/on-feirm-ground-2-wellbeing-for-farmers-15/
LOCATION:Roscommon\, Athleague Community Centre\, Tiernan Memorial Hall\, Main Street\, Athleague\, Roscommon\, Roscommon\, F42 P440\, Ireland
CATEGORIES:Unit 8.1 On Feirm Ground
END:VEVENT
BEGIN:VEVENT
DTSTART;TZID=Europe/Dublin:20251111T090000
DTEND;TZID=Europe/Dublin:20251111T160000
DTSTAMP:20260420T011058
CREATED:20250717T115313Z
LAST-MODIFIED:20251110T101150Z
UID:10000250-1762851600-1762876800@engagetraining.ie
SUMMARY:On Feirm Ground 2 - Wellbeing for Farmers
DESCRIPTION:This training is endorsed by the Dept of Agriculture\, Food and Marine\, Department of Health and the H.S.E. \nThe Aim of the training is to equip agricultural professionals and service providers of all genders\, who interact with farmers on the farm\, in the office and over the phone with skills to effectively engage with farmers on their health & wellbeing\, and to signpost farmers who may be struggling to find relevant support services. \nThe E-learning Component: You will receive a link a week before your in-person workshop. You are required to complete the 2 hours of self-paced E-learning before you go into the room.
URL:https://engagetraining.ie/event/on-feirm-ground-2-wellbeing-for-farmers-16/
LOCATION:Killarney\, Co. Kerry\, Torc Community & Family Resource Centre\, Ballyspillane Estate\, Killarney\, Co. Kerry\, V93FD1H.\, Killarney\, Co. Kerry\, V93 FD1H\, Ireland
CATEGORIES:Unit 8.1 On Feirm Ground
GEO:52.0603246;-9.4738579
X-APPLE-STRUCTURED-LOCATION;VALUE=URI;X-ADDRESS=Killarney Co. Kerry Torc Community & Family Resource Centre Ballyspillane Estate Killarney Co. Kerry V93FD1H. Killarney Co. Kerry V93 FD1H Ireland;X-APPLE-RADIUS=500;X-TITLE=Torc Community & Family Resource Centre\, Ballyspillane Estate\, Killarney\, Co. Kerry\, V93FD1H.:geo:-9.4738579,52.0603246
END:VEVENT
BEGIN:VEVENT
DTSTART;TZID=Europe/Dublin:20251113T090000
DTEND;TZID=Europe/Dublin:20251113T160000
DTSTAMP:20260420T011058
CREATED:20250717T134105Z
LAST-MODIFIED:20250718T084351Z
UID:10000251-1763024400-1763049600@engagetraining.ie
SUMMARY:On Feirm Ground 2 - Wellbeing for Farmers
DESCRIPTION:This training is endorsed by the Dept of Agriculture\, Food and Marine\, Department of Health and the H.S.E. \nThe Aim of the training is to equip agricultural professionals and service providers of all genders\, who interact with farmers on the farm\, in the office and over the phone with skills to effectively engage with farmers on their health & wellbeing\, and to signpost farmers who may be struggling to find relevant support services. \nThe E-learning Component: You will receive a link a week before your in-person workshop. You are required to complete the 2 hours of self-paced E-learning before you go into the room.
URL:https://engagetraining.ie/event/on-feirm-ground-2-wellbeing-for-farmers-17/
LOCATION:Wexford Town\, TBC\, Wexford\, TBC
CATEGORIES:Unit 8.1 On Feirm Ground
END:VEVENT
BEGIN:VEVENT
DTSTART;TZID=Europe/Dublin:20251118T090000
DTEND;TZID=Europe/Dublin:20251118T160000
DTSTAMP:20260420T011058
CREATED:20250717T135121Z
LAST-MODIFIED:20250717T135121Z
UID:10000252-1763456400-1763481600@engagetraining.ie
SUMMARY:On Feirm Ground 2 - Wellbeing for Farmers
DESCRIPTION:This training is endorsed by the Dept of Agriculture\, Food and Marine\, Department of Health and the H.S.E. \nThe Aim of the training is to equip agricultural professionals and service providers of all genders\, who interact with farmers on the farm\, in the office and over the phone with skills to effectively engage with farmers on their health & wellbeing\, and to signpost farmers who may be struggling to find relevant support services. \nThe E-learning Component: You will receive a link a week before your in-person workshop. You are required to complete the 2 hours of self-paced E-learning before you go into the room.
URL:https://engagetraining.ie/event/on-feirm-ground-2-wellbeing-for-farmers-18/
LOCATION:Navan\, Co. Meath\, Navan Education Centre\, Athlumney\, Navan\, Co. Meath\, C15 RK03\, Navan\, C15 RK03
CATEGORIES:Unit 8.1 On Feirm Ground
END:VEVENT
BEGIN:VEVENT
DTSTART;TZID=Europe/Dublin:20251120T090000
DTEND;TZID=Europe/Dublin:20251120T160000
DTSTAMP:20260420T011058
CREATED:20250717T135543Z
LAST-MODIFIED:20251117T155740Z
UID:10000253-1763629200-1763654400@engagetraining.ie
SUMMARY:On Feirm Ground 2 - Wellbeing for Farmers
DESCRIPTION:This training is endorsed by the Dept of Agriculture\, Food and Marine\, Department of Health and the H.S.E. \nThe Aim of the training is to equip agricultural professionals and service providers of all genders\, who interact with farmers on the farm\, in the office and over the phone with skills to effectively engage with farmers on their health & wellbeing\, and to signpost farmers who may be struggling to find relevant support services. \nThe E-learning Component: You will receive a link a week before your in-person workshop. You are required to complete the 2 hours of self-paced E-learning before you go into the room.
URL:https://engagetraining.ie/event/on-feirm-ground-2-wellbeing-for-farmers-19/
LOCATION:Athenry\, Co. Galway\, Athenry\, Galway\, Galway\, Ireland
CATEGORIES:Unit 8.1 On Feirm Ground
GEO:53.2878512;-8.7789324
END:VEVENT
BEGIN:VEVENT
DTSTART;TZID=Europe/Dublin:20251125T090000
DTEND;TZID=Europe/Dublin:20251125T160000
DTSTAMP:20260420T011058
CREATED:20250717T140522Z
LAST-MODIFIED:20251120T111318Z
UID:10000254-1764061200-1764086400@engagetraining.ie
SUMMARY:On Feirm Ground 2 - Wellbeing for Farmers
DESCRIPTION:This training is endorsed by the Dept of Agriculture\, Food and Marine\, Department of Health and the H.S.E. \nThe Aim of the training is to equip agricultural professionals and service providers of all genders\, who interact with farmers on the farm\, in the office and over the phone with skills to effectively engage with farmers on their health & wellbeing\, and to signpost farmers who may be struggling to find relevant support services. \nThe E-learning Component: You will receive a link a week before your in-person workshop. You are required to complete the 2 hours of self-paced E-learning before you go into the room.
URL:https://engagetraining.ie/event/on-feirm-ground-2-wellbeing-for-farmers-20/
LOCATION:Naas\, Co. Kildare\, Lawlor of Naas\, Poplar Square\, Naas\, W91 Y65N\, Ireland
CATEGORIES:Unit 8.1 On Feirm Ground
END:VEVENT
BEGIN:VEVENT
DTSTART;TZID=Europe/Dublin:20251127T090000
DTEND;TZID=Europe/Dublin:20251127T160000
DTSTAMP:20260420T011058
CREATED:20250717T141103Z
LAST-MODIFIED:20251117T155902Z
UID:10000255-1764234000-1764259200@engagetraining.ie
SUMMARY:On Feirm Ground 2 - Wellbeing for Farmers
DESCRIPTION:This training is endorsed by the Dept of Agriculture\, Food and Marine\, Department of Health and the H.S.E. \nThe Aim of the training is to equip agricultural professionals and service providers of all genders\, who interact with farmers on the farm\, in the office and over the phone with skills to effectively engage with farmers on their health & wellbeing\, and to signpost farmers who may be struggling to find relevant support services. \nThe E-learning Component: You will receive a link a week before your in-person workshop. You are required to complete the 2 hours of self-paced E-learning before you go into the room.
URL:https://engagetraining.ie/event/on-feirm-ground-2-wellbeing-for-farmers-21/
LOCATION:Thurles\, Co. Tipperary\, The Source Arts Centre\, Cathedral Street\, Thurles\, Co. Tipperary\, Thurles\, E41 A4E8\, Ireland
CATEGORIES:Unit 8.1 On Feirm Ground
ORGANIZER;CN="Jack Cashman":MAILTO:jack@mensnetwork.ie
END:VEVENT
END:VCALENDAR