BEGIN:VCALENDAR
VERSION:2.0
PRODID:-//Engage Training - ECPv6.15.12.2//NONSGML v1.0//EN
CALSCALE:GREGORIAN
METHOD:PUBLISH
X-ORIGINAL-URL:https://engagetraining.ie
X-WR-CALDESC:Events for Engage Training
REFRESH-INTERVAL;VALUE=DURATION:PT1H
X-Robots-Tag:noindex
X-PUBLISHED-TTL:PT1H
BEGIN:VTIMEZONE
TZID:Europe/Dublin
BEGIN:STANDARD
TZOFFSETFROM:+0000
TZOFFSETTO:+0100
TZNAME:IST
DTSTART:20240331T010000
END:STANDARD
BEGIN:DAYLIGHT
TZOFFSETFROM:+0100
TZOFFSETTO:+0000
TZNAME:GMT
DTSTART:20241027T010000
END:DAYLIGHT
BEGIN:STANDARD
TZOFFSETFROM:+0000
TZOFFSETTO:+0100
TZNAME:IST
DTSTART:20250330T010000
END:STANDARD
BEGIN:DAYLIGHT
TZOFFSETFROM:+0100
TZOFFSETTO:+0000
TZNAME:GMT
DTSTART:20251026T010000
END:DAYLIGHT
BEGIN:STANDARD
TZOFFSETFROM:+0000
TZOFFSETTO:+0100
TZNAME:IST
DTSTART:20260329T010000
END:STANDARD
BEGIN:DAYLIGHT
TZOFFSETFROM:+0100
TZOFFSETTO:+0000
TZNAME:GMT
DTSTART:20261025T010000
END:DAYLIGHT
END:VTIMEZONE
BEGIN:VEVENT
DTSTART;TZID=Europe/Dublin:20251125T090000
DTEND;TZID=Europe/Dublin:20251125T160000
DTSTAMP:20260420T143655
CREATED:20250717T140522Z
LAST-MODIFIED:20251120T111318Z
UID:10000254-1764061200-1764086400@engagetraining.ie
SUMMARY:On Feirm Ground 2 - Wellbeing for Farmers
DESCRIPTION:This training is endorsed by the Dept of Agriculture\, Food and Marine\, Department of Health and the H.S.E. \nThe Aim of the training is to equip agricultural professionals and service providers of all genders\, who interact with farmers on the farm\, in the office and over the phone with skills to effectively engage with farmers on their health & wellbeing\, and to signpost farmers who may be struggling to find relevant support services. \nThe E-learning Component: You will receive a link a week before your in-person workshop. You are required to complete the 2 hours of self-paced E-learning before you go into the room.
URL:https://engagetraining.ie/event/on-feirm-ground-2-wellbeing-for-farmers-20/
LOCATION:Naas\, Co. Kildare\, Lawlor of Naas\, Poplar Square\, Naas\, W91 Y65N\, Ireland
CATEGORIES:Unit 8.1 On Feirm Ground
END:VEVENT
BEGIN:VEVENT
DTSTART;TZID=Europe/Dublin:20251127T090000
DTEND;TZID=Europe/Dublin:20251127T160000
DTSTAMP:20260420T143655
CREATED:20250717T141103Z
LAST-MODIFIED:20251117T155902Z
UID:10000255-1764234000-1764259200@engagetraining.ie
SUMMARY:On Feirm Ground 2 - Wellbeing for Farmers
DESCRIPTION:This training is endorsed by the Dept of Agriculture\, Food and Marine\, Department of Health and the H.S.E. \nThe Aim of the training is to equip agricultural professionals and service providers of all genders\, who interact with farmers on the farm\, in the office and over the phone with skills to effectively engage with farmers on their health & wellbeing\, and to signpost farmers who may be struggling to find relevant support services. \nThe E-learning Component: You will receive a link a week before your in-person workshop. You are required to complete the 2 hours of self-paced E-learning before you go into the room.
URL:https://engagetraining.ie/event/on-feirm-ground-2-wellbeing-for-farmers-21/
LOCATION:Thurles\, Co. Tipperary\, The Source Arts Centre\, Cathedral Street\, Thurles\, Co. Tipperary\, Thurles\, E41 A4E8\, Ireland
CATEGORIES:Unit 8.1 On Feirm Ground
ORGANIZER;CN="Jack Cashman":MAILTO:jack@mensnetwork.ie
END:VEVENT
BEGIN:VEVENT
DTSTART;TZID=Europe/Dublin:20251203T090000
DTEND;TZID=Europe/Dublin:20251203T160000
DTSTAMP:20260420T143655
CREATED:20251013T092430Z
LAST-MODIFIED:20251013T092938Z
UID:10000267-1764752400-1764777600@engagetraining.ie
SUMMARY:On Feirm Ground 2 - Wellbeing for Farming Community
DESCRIPTION:Content is protected.
URL:https://engagetraining.ie/event/on-feirm-ground-2-wellbeing-for-farming-community-3/
LOCATION:Portlaoise Teagasc\, Teagasc\, 1 Park Villas\, Portlaoise\, Co. Laois\, R32 CF21\, R32 CF21
CATEGORIES:Unit 8.1 On Feirm Ground
END:VEVENT
END:VCALENDAR