BEGIN:VCALENDAR
VERSION:2.0
PRODID:-//Engage Training - ECPv6.15.12.2//NONSGML v1.0//EN
CALSCALE:GREGORIAN
METHOD:PUBLISH
X-ORIGINAL-URL:https://engagetraining.ie
X-WR-CALDESC:Events for Engage Training
REFRESH-INTERVAL;VALUE=DURATION:PT1H
X-Robots-Tag:noindex
X-PUBLISHED-TTL:PT1H
BEGIN:VTIMEZONE
TZID:Europe/Dublin
BEGIN:STANDARD
TZOFFSETFROM:+0000
TZOFFSETTO:+0100
TZNAME:IST
DTSTART:20210328T010000
END:STANDARD
BEGIN:DAYLIGHT
TZOFFSETFROM:+0100
TZOFFSETTO:+0000
TZNAME:GMT
DTSTART:20211031T010000
END:DAYLIGHT
BEGIN:STANDARD
TZOFFSETFROM:+0000
TZOFFSETTO:+0100
TZNAME:IST
DTSTART:20220327T010000
END:STANDARD
BEGIN:DAYLIGHT
TZOFFSETFROM:+0100
TZOFFSETTO:+0000
TZNAME:GMT
DTSTART:20221030T010000
END:DAYLIGHT
BEGIN:STANDARD
TZOFFSETFROM:+0000
TZOFFSETTO:+0100
TZNAME:IST
DTSTART:20230326T010000
END:STANDARD
BEGIN:DAYLIGHT
TZOFFSETFROM:+0100
TZOFFSETTO:+0000
TZNAME:GMT
DTSTART:20231029T010000
END:DAYLIGHT
BEGIN:STANDARD
TZOFFSETFROM:+0000
TZOFFSETTO:+0100
TZNAME:IST
DTSTART:20240331T010000
END:STANDARD
BEGIN:DAYLIGHT
TZOFFSETFROM:+0100
TZOFFSETTO:+0000
TZNAME:GMT
DTSTART:20241027T010000
END:DAYLIGHT
END:VTIMEZONE
BEGIN:VEVENT
DTSTART;TZID=Europe/Dublin:20220413T090000
DTEND;TZID=Europe/Dublin:20220413T170000
DTSTAMP:20260419T211520
CREATED:20220412T142221Z
LAST-MODIFIED:20220412T143615Z
UID:10000107-1649840400-1649869200@engagetraining.ie
SUMMARY:Test Event (DO NOT REGISTER)
DESCRIPTION:
URL:https://engagetraining.ie/event/test-event-do-not-register/
LOCATION:Amber Springs Hotel\, Gorey\, Amber Springs Hotel\, Wexford St\, Knockmullen\,\, Gorey\, Co. Wexford\, Y25FY07\, Ireland
CATEGORIES:Unit 8: On Feirm Ground
GEO:52.6683426;-6.2900962
X-APPLE-STRUCTURED-LOCATION;VALUE=URI;X-ADDRESS=Amber Springs Hotel Gorey Amber Springs Hotel Wexford St Knockmullen Gorey Co. Wexford Y25FY07 Ireland;X-APPLE-RADIUS=500;X-TITLE=Amber Springs Hotel\, Wexford St\, Knockmullen\,:geo:-6.2900962,52.6683426
END:VEVENT
BEGIN:VEVENT
DTSTART;TZID=Europe/Dublin:20220420T090000
DTEND;TZID=Europe/Dublin:20220420T170000
DTSTAMP:20260419T211520
CREATED:20220419T093853Z
LAST-MODIFIED:20220419T093853Z
UID:10000108-1650445200-1650474000@engagetraining.ie
SUMMARY:TEST EVENT ( Do not register)
DESCRIPTION:
URL:https://engagetraining.ie/event/test-event-do-not-register-2/
LOCATION:Teagasc\, Ennis\, Teagasc\, Station Road\, Ennis\, Co. Clare\, V95R889\, Ireland
CATEGORIES:Unit 8: On Feirm Ground
GEO:52.8408541;-8.9791842
X-APPLE-STRUCTURED-LOCATION;VALUE=URI;X-ADDRESS=Teagasc Ennis Teagasc Station Road Ennis Co. Clare V95R889 Ireland;X-APPLE-RADIUS=500;X-TITLE=Teagasc\, Station Road:geo:-8.9791842,52.8408541
END:VEVENT
BEGIN:VEVENT
DTSTART;TZID=Europe/Dublin:20220503T151500
DTEND;TZID=Europe/Dublin:20220503T160000
DTSTAMP:20260419T211520
CREATED:20220503T141008Z
LAST-MODIFIED:20220503T141008Z
UID:10000109-1651590900-1651593600@engagetraining.ie
SUMMARY:Test Event (Do not Register)
DESCRIPTION:
URL:https://engagetraining.ie/event/test-event-do-not-register-3/
LOCATION:Co. Sligo
CATEGORIES:Unit 8: On Feirm Ground
END:VEVENT
BEGIN:VEVENT
DTSTART;TZID=Europe/Dublin:20220609T093000
DTEND;TZID=Europe/Dublin:20220609T163000
DTSTAMP:20260419T211520
CREATED:20220523T101237Z
LAST-MODIFIED:20220531T102510Z
UID:10000117-1654767000-1654792200@engagetraining.ie
SUMMARY:FARM Advisor Workshop (Online)
DESCRIPTION:  \nFARM Advisor Workshop \nOn Feirm Ground – Wellbeing for Farmers \nThis Workshop is endorsed by the Dept of Agriculture\, the H.S.E \, Teagasc and the A.C.A. \nThe Aim of the Workshop is to help agricultural advisors effectively engage with their farming clients on health & wellbeing issues\, and to signpost them to relevant support services. \nVenue: Online \nDate: Thursday 9th June\nTime: 9.30am – 4.30pm \nTrainers: Martina Enright\nMentor: Clare Deasy
URL:https://engagetraining.ie/event/v28/
LOCATION:Co. Sligo
CATEGORIES:Unit 8: On Feirm Ground
END:VEVENT
BEGIN:VEVENT
DTSTART;TZID=Europe/Dublin:20220623T093000
DTEND;TZID=Europe/Dublin:20220623T163000
DTSTAMP:20260419T211520
CREATED:20220510T082832Z
LAST-MODIFIED:20220516T082145Z
UID:10000111-1655976600-1656001800@engagetraining.ie
SUMMARY:FARM Advisor Workshop (Online)
DESCRIPTION:FARM Advisor Workshop \nOn Feirm Ground – Wellbeing for Farmers \nThis Workshop is endorsed by the Dept of Agriculture\, the H.S.E \, Teagasc and the A.C.A. \nThe Aim of Workshop is to help agricultural advisors effectively engage with their farming clients on health & wellbeing issues\, and to signpost them to relevant support services. \nVenue: Online \nDate: Thursday 23th June\nTime: 9.30am – 4.30pm \nTrainers: Francis Bligh\nMentor: Paul Gillen
URL:https://engagetraining.ie/event/v30/
LOCATION:Co. Sligo
CATEGORIES:Unit 8: On Feirm Ground
END:VEVENT
BEGIN:VEVENT
DTSTART;TZID=Europe/Dublin:20220629T093000
DTEND;TZID=Europe/Dublin:20220629T163000
DTSTAMP:20260419T211520
CREATED:20220510T083714Z
LAST-MODIFIED:20220627T083816Z
UID:10000112-1656495000-1656520200@engagetraining.ie
SUMMARY:FARM Advisor Workshop (Online) CANCELLED
DESCRIPTION:FARM Advisor Workshop \nOn Feirm Ground – Wellbeing for Farmers \nThis Workshop is endorsed by the Dept of Agriculture\, the H.S.E \, Teagasc and the A.C.A. \nThe Aim of Workshop is to help agricultural advisors effectively engage with their farming clients on health & wellbeing issues\, and to signpost them to relevant support services. \nVenue: Online \nDate: Wednesday 29th June\nTime: 9.30am – 4.30pm \nTrainers: Hugh MacEneaney\, Catherine O’Loughlin\nMentor: Lorcan Brennan
URL:https://engagetraining.ie/event/v31/
LOCATION:Co. Sligo
CATEGORIES:Unit 8: On Feirm Ground
END:VEVENT
BEGIN:VEVENT
DTSTART;TZID=Europe/Dublin:20220630T093000
DTEND;TZID=Europe/Dublin:20220630T163000
DTSTAMP:20260419T211520
CREATED:20220510T084413Z
LAST-MODIFIED:20220628T152720Z
UID:10000113-1656581400-1656606600@engagetraining.ie
SUMMARY:FARM Advisor Workshop (Online) CANCELLED
DESCRIPTION:FARM Advisor Workshop \nOn Feirm Ground – Wellbeing for Farmers \nThis Workshop is endorsed by the Dept of Agriculture\, the H.S.E \, Teagasc and the A.C.A. \nThe Aim of Workshop is to help agricultural advisors effectively engage with their farming clients on health & wellbeing issues\, and to signpost them to relevant support services. \nVenue: Online \nDate: Thursday 30th June\nTime: 9.30am – 4.30pm \nTrainers: Veronica Ryan\, Enda Geoghegan\,\nMentor: Ann Marie Murphy
URL:https://engagetraining.ie/event/v32/
LOCATION:Co. Sligo
CATEGORIES:Unit 8: On Feirm Ground
END:VEVENT
BEGIN:VEVENT
DTSTART;TZID=Europe/Dublin:20220706T093000
DTEND;TZID=Europe/Dublin:20220706T163000
DTSTAMP:20260419T211520
CREATED:20220504T095954Z
LAST-MODIFIED:20220705T134734Z
UID:10000110-1657099800-1657125000@engagetraining.ie
SUMMARY:FARM Advisor Workshop (Online) Cancelled
DESCRIPTION:FARM Advisor Workshop \nOn Feirm Ground – Wellbeing for Farmers \nThis Workshop is endorsed by the Dept of Agriculture\, the H.S.E \, Teagasc and the A.C.A. \nThe Aim of Workshop is to help agricultural advisors effectively engage with their farming clients on health & wellbeing issues\, and to signpost them to relevant support services. \nVenue: Online \nDate: Wednesday 6th July\nTime: 9.30am – 4.30pm \nTrainers: Maedhbh Johnston & Julie Roche\nMentor: Clare Deasy \nFARM Advisor Workshop (Online) Cancelled
URL:https://engagetraining.ie/event/ofg-v33/
LOCATION:Co. Sligo
CATEGORIES:Unit 8: On Feirm Ground
END:VEVENT
BEGIN:VEVENT
DTSTART;TZID=Europe/Dublin:20220707T093000
DTEND;TZID=Europe/Dublin:20220707T163000
DTSTAMP:20260419T211520
CREATED:20220510T085227Z
LAST-MODIFIED:20220704T141301Z
UID:10000114-1657186200-1657211400@engagetraining.ie
SUMMARY:FARM Advisor Workshop (Online) CANCELLED
DESCRIPTION:FARM Advisor Workshop \nOn Feirm Ground – Wellbeing for Farmers \nThis Workshop is endorsed by the Dept of Agriculture\, the H.S.E \, Teagasc and the A.C.A. \nThe Aim of Workshop is to help agricultural advisors effectively engage with their farming clients on health & wellbeing issues\, and to signpost them to relevant support services. \nVenue: Online \nDate: Thursday 7th July\nTime: 9.30am – 4.30pm \nTrainers: Aine Gaffney\nMentor: Finian Murray \n 
URL:https://engagetraining.ie/event/v34/
LOCATION:Co. Sligo
CATEGORIES:Unit 8: On Feirm Ground
END:VEVENT
BEGIN:VEVENT
DTSTART;TZID=Europe/Dublin:20220713T093000
DTEND;TZID=Europe/Dublin:20220713T163000
DTSTAMP:20260419T211520
CREATED:20220510T085954Z
LAST-MODIFIED:20220704T140759Z
UID:10000115-1657704600-1657729800@engagetraining.ie
SUMMARY:FARM Advisor Workshop (Online) CANCELLED
DESCRIPTION:FARM Advisor Workshop \nOn Feirm Ground – Wellbeing for Farmers \nThis Workshop is endorsed by the Dept of Agriculture\, the H.S.E \, Teagasc and the A.C.A. \nThe Aim of Workshop is to help agricultural advisors effectively engage with their farming clients on health & wellbeing issues\, and to signpost them to relevant support services. \nVenue: Online \nDate: Wednesday 13th July\nTime: 9.30am – 4.30pm \nTrainers: Francis Bligh\, Paul Gillen\nMentor: Ann Marie Murphy \n 
URL:https://engagetraining.ie/event/v35/
LOCATION:Co. Sligo
CATEGORIES:Unit 8: On Feirm Ground
END:VEVENT
BEGIN:VEVENT
DTSTART;TZID=Europe/Dublin:20220714T093000
DTEND;TZID=Europe/Dublin:20220714T163000
DTSTAMP:20260419T211520
CREATED:20220510T090918Z
LAST-MODIFIED:20220704T140717Z
UID:10000116-1657791000-1657816200@engagetraining.ie
SUMMARY:FARM Advisor Workshop (Online) CANCELLED
DESCRIPTION:FARM Advisor Workshop \nOn Feirm Ground – Wellbeing for Farmers \nThis Workshop is endorsed by the Dept of Agriculture\, the H.S.E \, Teagasc and the A.C.A. \nThe Aim of Workshop is to help agricultural advisors effectively engage with their farming clients on health & wellbeing issues\, and to signpost them to relevant support services. \nVenue: Online \nDate: Thursday 14th July\nTime: 9.30am – 4.30pm \nTrainers: Paddy Browne\nMentor: Bill Vaughan \n  \n 
URL:https://engagetraining.ie/event/v36/
LOCATION:Co. Sligo
CATEGORIES:Unit 8: On Feirm Ground
END:VEVENT
BEGIN:VEVENT
DTSTART;TZID=Europe/Dublin:20221108T093000
DTEND;TZID=Europe/Dublin:20221108T163000
DTSTAMP:20260419T211520
CREATED:20221006T114005Z
LAST-MODIFIED:20221010T135419Z
UID:10000118-1667899800-1667925000@engagetraining.ie
SUMMARY:On Feirm Ground Dept of Ag. & ISPCA (Online)
DESCRIPTION:
URL:https://engagetraining.ie/event/on-feirm-ground-dept-of-ag-ispca-online/
LOCATION:Co. Sligo
CATEGORIES:Unit 8: On Feirm Ground
END:VEVENT
BEGIN:VEVENT
DTSTART;TZID=Europe/Dublin:20221122T093000
DTEND;TZID=Europe/Dublin:20221122T163000
DTSTAMP:20260419T211520
CREATED:20221006T114911Z
LAST-MODIFIED:20221010T135316Z
UID:10000119-1669109400-1669134600@engagetraining.ie
SUMMARY:On Feirm Ground Dept Ag & ISPCA (In Person)
DESCRIPTION:
URL:https://engagetraining.ie/event/on-feirm-ground-dept-ag-ispca-in-person/
LOCATION:Department of Agriculture\, Food & the Marine\, Department of Agriculture\, Food & the Marine\, Portlaoise\, Co. Laois\, R32 RPA6\, Ireland
CATEGORIES:Unit 8: On Feirm Ground
GEO:53.0321483;-7.3034793
X-APPLE-STRUCTURED-LOCATION;VALUE=URI;X-ADDRESS=Department of Agriculture Food & the Marine Department of Agriculture Food & the Marine Portlaoise Co. Laois R32 RPA6 Ireland;X-APPLE-RADIUS=500;X-TITLE=Department of Agriculture\, Food & the Marine:geo:-7.3034793,53.0321483
END:VEVENT
BEGIN:VEVENT
DTSTART;TZID=Europe/Dublin:20230118T093000
DTEND;TZID=Europe/Dublin:20230118T163000
DTSTAMP:20260419T211520
CREATED:20221122T143340Z
LAST-MODIFIED:20230112T160824Z
UID:10000120-1674034200-1674059400@engagetraining.ie
SUMMARY:FARM Advisor Workshop (Online) CANCELLED
DESCRIPTION:FARM Advisor Workshop \nOn Feirm Ground – Wellbeing for Farmers \nThis Workshop is endorsed by the Dept of Agriculture\, the H.S.E \, Teagasc and the A.C.A. \nThe Aim of Workshop is to help agricultural advisors effectively engage with their farming clients on health & wellbeing issues\, and to signpost them to relevant support services. \nVenue: Online: https://us06web.zoom.us/j/82947192046 \nDate: Wednesday 18th January\nTime: 9.30am – 4.30pm
URL:https://engagetraining.ie/event/farm-advisor-workshop-online/
LOCATION:Co. Sligo
CATEGORIES:Unit 8: On Feirm Ground
END:VEVENT
BEGIN:VEVENT
DTSTART;TZID=Europe/Dublin:20230201T093000
DTEND;TZID=Europe/Dublin:20230201T163000
DTSTAMP:20260419T211520
CREATED:20221122T144505Z
LAST-MODIFIED:20230111T142244Z
UID:10000121-1675243800-1675269000@engagetraining.ie
SUMMARY:FARM Advisor Workshop (Online)
DESCRIPTION:FARM Advisor Workshop \nOn Feirm Ground – Wellbeing for Farmers \nThis Workshop is endorsed by the Dept of Agriculture\, the H.S.E \, Teagasc and the A.C.A. \nThe Aim of Workshop is to help agricultural advisors effectively engage with their farming clients on health & wellbeing issues\, and to signpost them to relevant support services. \nVenue: Online: https://us06web.zoom.us/j/81999882249 \nDate: Wednesday 1st February\nTime: 9.30am – 4.30pm
URL:https://engagetraining.ie/event/farm-advisor-workshop-online-2/
LOCATION:Co. Sligo
CATEGORIES:Unit 8: On Feirm Ground
END:VEVENT
BEGIN:VEVENT
DTSTART;TZID=Europe/Dublin:20230215T093000
DTEND;TZID=Europe/Dublin:20230215T163000
DTSTAMP:20260419T211520
CREATED:20221122T144858Z
LAST-MODIFIED:20230201T115510Z
UID:10000122-1676453400-1676478600@engagetraining.ie
SUMMARY:FARM Advisor Workshop (Online)
DESCRIPTION:FARM Advisor Workshop \nOn Feirm Ground – Wellbeing for Farmers \nThis Workshop is endorsed by the Dept of Agriculture\, the H.S.E \, Teagasc and the A.C.A. \nThe Aim of the Workshop is to help agricultural advisors effectively engage with their farming clients on health & wellbeing issues\, and to signpost them to relevant support services. \nVenue: Online: https://us06web.zoom.us/meeting/89976145443 \nDate: Wednesday 15th February\nTime: 9.30am – 4.30pm
URL:https://engagetraining.ie/event/farm-advisor-workshop-online-3/
LOCATION:Co. Sligo
CATEGORIES:Unit 8: On Feirm Ground
END:VEVENT
END:VCALENDAR