BEGIN:VCALENDAR
VERSION:2.0
PRODID:-//Engage Training - ECPv6.15.12.2//NONSGML v1.0//EN
CALSCALE:GREGORIAN
METHOD:PUBLISH
X-ORIGINAL-URL:https://engagetraining.ie
X-WR-CALDESC:Events for Engage Training
REFRESH-INTERVAL;VALUE=DURATION:PT1H
X-Robots-Tag:noindex
X-PUBLISHED-TTL:PT1H
BEGIN:VTIMEZONE
TZID:Europe/Dublin
BEGIN:STANDARD
TZOFFSETFROM:+0000
TZOFFSETTO:+0100
TZNAME:IST
DTSTART:20200329T010000
END:STANDARD
BEGIN:DAYLIGHT
TZOFFSETFROM:+0100
TZOFFSETTO:+0000
TZNAME:GMT
DTSTART:20201025T010000
END:DAYLIGHT
BEGIN:STANDARD
TZOFFSETFROM:+0000
TZOFFSETTO:+0100
TZNAME:IST
DTSTART:20210328T010000
END:STANDARD
BEGIN:DAYLIGHT
TZOFFSETFROM:+0100
TZOFFSETTO:+0000
TZNAME:GMT
DTSTART:20211031T010000
END:DAYLIGHT
BEGIN:STANDARD
TZOFFSETFROM:+0000
TZOFFSETTO:+0100
TZNAME:IST
DTSTART:20220327T010000
END:STANDARD
BEGIN:DAYLIGHT
TZOFFSETFROM:+0100
TZOFFSETTO:+0000
TZNAME:GMT
DTSTART:20221030T010000
END:DAYLIGHT
BEGIN:STANDARD
TZOFFSETFROM:+0000
TZOFFSETTO:+0100
TZNAME:IST
DTSTART:20230326T010000
END:STANDARD
BEGIN:DAYLIGHT
TZOFFSETFROM:+0100
TZOFFSETTO:+0000
TZNAME:GMT
DTSTART:20231029T010000
END:DAYLIGHT
END:VTIMEZONE
BEGIN:VEVENT
DTSTART;TZID=Europe/Dublin:20220707T093000
DTEND;TZID=Europe/Dublin:20220707T163000
DTSTAMP:20260419T173735
CREATED:20220510T085227Z
LAST-MODIFIED:20220704T141301Z
UID:10000114-1657186200-1657211400@engagetraining.ie
SUMMARY:FARM Advisor Workshop (Online) CANCELLED
DESCRIPTION:FARM Advisor Workshop \nOn Feirm Ground – Wellbeing for Farmers \nThis Workshop is endorsed by the Dept of Agriculture\, the H.S.E \, Teagasc and the A.C.A. \nThe Aim of Workshop is to help agricultural advisors effectively engage with their farming clients on health & wellbeing issues\, and to signpost them to relevant support services. \nVenue: Online \nDate: Thursday 7th July\nTime: 9.30am – 4.30pm \nTrainers: Aine Gaffney\nMentor: Finian Murray \n 
URL:https://engagetraining.ie/event/v34/
CATEGORIES:Unit 8: On Feirm Ground
END:VEVENT
BEGIN:VEVENT
DTSTART;TZID=Europe/Dublin:20220208T093000
DTEND;TZID=Europe/Dublin:20220208T163000
DTSTAMP:20260419T173735
CREATED:20211215T144335Z
LAST-MODIFIED:20220112T164057Z
UID:10000101-1644312600-1644337800@engagetraining.ie
SUMMARY:FARM Advisor Workshop\, Monaghan (Online)
DESCRIPTION:FARM Advisor Workshop\, Monaghan\nOn Feirm Ground – Wellbeing for Farmers\nThis Workshop is endorsed by the Dept of Agriculture\, the H.S.E \, Teagasc and the A.C.A.\nThe Aim of Workshop is to help agricultural advisors effectively engage with their farming clients on health & wellbeing issues\, and to signpost them to relevant support services.\nVenue: Teagasc\, Coolshannagh\, Monaghan\, H18 Y563 \nDate: Tuesday 8th February\nTime: 9.30am – 4.30pm \nTrainers: Aine Gaffney & Tom Canning\nMentor: Finian Murray \nhttps://engagetraining.ie/event/ofg-v19/
URL:https://engagetraining.ie/event/ofg-v19/
LOCATION:Teagasc\, Monaghan\, Teagasc\, Coolshannagh\,\, Monaghan\,\, Co. Monaghan\, H18Y563\, Ireland
CATEGORIES:Unit 8: On Feirm Ground
GEO:54.2576572;-6.9644774
X-APPLE-STRUCTURED-LOCATION;VALUE=URI;X-ADDRESS=Teagasc Monaghan Teagasc Coolshannagh Monaghan Co. Monaghan H18Y563 Ireland;X-APPLE-RADIUS=500;X-TITLE=Teagasc\, Coolshannagh\,:geo:-6.9644774,54.2576572
END:VEVENT
BEGIN:VEVENT
DTSTART;TZID=Europe/Dublin:20211116T093000
DTEND;TZID=Europe/Dublin:20211116T163000
DTSTAMP:20260419T173735
CREATED:20211020T085659Z
LAST-MODIFIED:20211101T165309Z
UID:10000090-1637055000-1637080200@engagetraining.ie
SUMMARY:FARM Advisor Workshop\, Navan
DESCRIPTION:FARM Advisor Workshop\, Navan\nOn Feirm Ground – Wellbeing for Farmers\nThis Workshop is endorsed by the Dept of Agriculture\, the H.S.E \, Teagasc and the A.C.A.\nThe Aim of Workshop is to help agricultural advisors effectively engage with their farming clients on health & wellbeing issues\, and to signpost them to relevant support services.\nVenue: Teagasc\, Kells Rd\, Abbeyland South\, Navan\, Co. Meath\, C15 NR79 \nDate: Tuesday 16th November\nTime: 9.30am – 4.30pm \nTrainers: Aine Gaffney & Seamus Cusack\nMentor: Finian Murray
URL:https://engagetraining.ie/event/ofg-v8/
LOCATION:Teagasc\, Navan\, Teagasc\, Kells Rd\, Abbeyland South\,\, Navan\, Co. Meath\, C15NR79\, Ireland
CATEGORIES:Unit 8: On Feirm Ground
GEO:53.6549842;-6.6971165
X-APPLE-STRUCTURED-LOCATION;VALUE=URI;X-ADDRESS=Teagasc Navan Teagasc Kells Rd Abbeyland South Navan Co. Meath C15NR79 Ireland;X-APPLE-RADIUS=500;X-TITLE=Teagasc\, Kells Rd\, Abbeyland South\,:geo:-6.6971165,53.6549842
END:VEVENT
END:VCALENDAR