BEGIN:VCALENDAR
VERSION:2.0
PRODID:-//Engage Training - ECPv6.15.12.2//NONSGML v1.0//EN
CALSCALE:GREGORIAN
METHOD:PUBLISH
X-ORIGINAL-URL:https://engagetraining.ie
X-WR-CALDESC:Events for Engage Training
REFRESH-INTERVAL;VALUE=DURATION:PT1H
X-Robots-Tag:noindex
X-PUBLISHED-TTL:PT1H
BEGIN:VTIMEZONE
TZID:Europe/Dublin
BEGIN:STANDARD
TZOFFSETFROM:+0000
TZOFFSETTO:+0100
TZNAME:IST
DTSTART:20230326T010000
END:STANDARD
BEGIN:DAYLIGHT
TZOFFSETFROM:+0100
TZOFFSETTO:+0000
TZNAME:GMT
DTSTART:20231029T010000
END:DAYLIGHT
BEGIN:STANDARD
TZOFFSETFROM:+0000
TZOFFSETTO:+0100
TZNAME:IST
DTSTART:20240331T010000
END:STANDARD
BEGIN:DAYLIGHT
TZOFFSETFROM:+0100
TZOFFSETTO:+0000
TZNAME:GMT
DTSTART:20241027T010000
END:DAYLIGHT
BEGIN:STANDARD
TZOFFSETFROM:+0000
TZOFFSETTO:+0100
TZNAME:IST
DTSTART:20250330T010000
END:STANDARD
BEGIN:DAYLIGHT
TZOFFSETFROM:+0100
TZOFFSETTO:+0000
TZNAME:GMT
DTSTART:20251026T010000
END:DAYLIGHT
END:VTIMEZONE
BEGIN:VEVENT
DTSTART;TZID=Europe/Dublin:20240709T090000
DTEND;TZID=Europe/Dublin:20240709T153000
DTSTAMP:20260419T211520
CREATED:20240607T075451Z
LAST-MODIFIED:20240607T075451Z
UID:10000077-1720515600-1720539000@engagetraining.ie
SUMMARY:On Feirm Ground 2
DESCRIPTION:On Feirm Ground 2 – Wellbeing for Farmers \n  \nThis training is endorsed by the Dept of Agriculture\, Food and Marine\, Department of Health and the H.S.E. \n  \nThe Aim of the training is to equip agricultural professionals and service providers of all genders\, who interact with farmers on the farm\, in the office and over the phone with skills to effectively engage with farmers on their health & wellbeing\, and to signpost farmers who may be struggling relevant support services. \n  \nThe E-learning Component: You will receive a link a week before your in-person workshop. You are required to complete the 2hours self-paced E-learning before you into the room. \n  \n 
URL:https://engagetraining.ie/event/on-feirm-ground-2-14/
LOCATION:Portlaoise Enterprise Centre\, Portlaoise\, R32 DW97\, Ireland
CATEGORIES:Unit 8.1 On Feirm Ground
GEO:53.0270734;-7.3189873
END:VEVENT
BEGIN:VEVENT
DTSTART;TZID=Europe/Dublin:20240702T090000
DTEND;TZID=Europe/Dublin:20240702T153000
DTSTAMP:20260419T211520
CREATED:20240607T075203Z
LAST-MODIFIED:20240607T075203Z
UID:10000076-1719910800-1719934200@engagetraining.ie
SUMMARY:On Feirm Ground 2
DESCRIPTION:On Feirm Ground 2 – Wellbeing for Farmers \n  \nThis training is endorsed by the Dept of Agriculture\, Food and Marine\, Department of Health and the H.S.E. \n  \nThe Aim of the training is to equip agricultural professionals and service providers of all genders\, who interact with farmers on the farm\, in the office and over the phone with skills to effectively engage with farmers on their health & wellbeing\, and to signpost farmers who may be struggling relevant support services. \n  \nThe E-learning Component: You will receive a link a week before your in-person workshop. You are required to complete the 2hours self-paced E-learning before you into the room. \n  \n 
URL:https://engagetraining.ie/event/on-feirm-ground-2-13/
LOCATION:Teagasc Clonakilty Agricultural College\, Clonakilty\, Cork\, P85 AX52\, Ireland
CATEGORIES:Unit 8.1 On Feirm Ground
GEO:51.6294544;-8.8480824
END:VEVENT
BEGIN:VEVENT
DTSTART;TZID=Europe/Dublin:20240628T090000
DTEND;TZID=Europe/Dublin:20240628T153000
DTSTAMP:20260419T211520
CREATED:20240520T102013Z
LAST-MODIFIED:20240624T154548Z
UID:10000073-1719565200-1719588600@engagetraining.ie
SUMMARY:On Feirm Ground 2
DESCRIPTION:On Feirm Ground 2 – Wellbeing for Farmers \n  \nThis training is endorsed by the Dept of Agriculture\, Food and Marine\, Department of Health and the H.S.E. \n  \nThe Aim of the training is to equip agricultural professionals and service providers of all genders\, who interact with farmers on the farm\, in the office and over the phone with skills to effectively engage with farmers on their health & wellbeing\, and to signpost farmers who may be struggling relevant support services. \n  \nThe E-learning Component: You will receive a link a week before your in-person workshop. You are required to complete the 2hours self-paced E-learning before you into the room. \n  \n 
URL:https://engagetraining.ie/event/on-feirm-ground-2-10/
LOCATION:Leixlip Youth & Community Centre\, Leixlip\, Kildare\, Captain's Hill\, Leixlip\, Kildare\, W23 T8W5\, Ireland
CATEGORIES:Unit 8.1 On Feirm Ground
GEO:53.3720414;-6.4865031
X-APPLE-STRUCTURED-LOCATION;VALUE=URI;X-ADDRESS=Leixlip Youth & Community Centre Leixlip Kildare Captain's Hill Leixlip Kildare W23 T8W5 Ireland;X-APPLE-RADIUS=500;X-TITLE=Captain's Hill:geo:-6.4865031,53.3720414
END:VEVENT
BEGIN:VEVENT
DTSTART;TZID=Europe/Dublin:20240624T090000
DTEND;TZID=Europe/Dublin:20240624T153000
DTSTAMP:20260419T211520
CREATED:20240520T151633Z
LAST-MODIFIED:20240520T151633Z
UID:10000074-1719219600-1719243000@engagetraining.ie
SUMMARY:On Feirm Ground 2
DESCRIPTION:On Feirm Ground 2 – Wellbeing for Farmers \n  \nThis training is endorsed by the Dept of Agriculture\, Food and Marine\, Department of Health and the H.S.E. \n  \nThe Aim of the training is to equip agricultural professionals and service providers of all genders\, who interact with farmers on the farm\, in the office and over the phone with skills to effectively engage with farmers on their health & wellbeing\, and to signpost farmers who may be struggling relevant support services. \n  \nThe E-learning Component: You will receive a link a week before your in-person workshop. You are required to complete the 2hours self-paced E-learning before you into the room. \n  \n  \n  \n 
URL:https://engagetraining.ie/event/on-feirm-ground-2-11/
LOCATION:Leitrim Development Company\, Drumshanbo\, Church Street\, Leitrim\, Leitrim\, N41 RF24\, Ireland
CATEGORIES:Unit 8.1 On Feirm Ground
GEO:54.0492844;-8.0439323
X-APPLE-STRUCTURED-LOCATION;VALUE=URI;X-ADDRESS=Leitrim Development Company Drumshanbo Church Street Leitrim Leitrim N41 RF24 Ireland;X-APPLE-RADIUS=500;X-TITLE=Church Street:geo:-8.0439323,54.0492844
END:VEVENT
BEGIN:VEVENT
DTSTART;TZID=Europe/Dublin:20240618T090000
DTEND;TZID=Europe/Dublin:20240618T153000
DTSTAMP:20260419T211520
CREATED:20240524T100327Z
LAST-MODIFIED:20240524T100902Z
UID:10000075-1718701200-1718724600@engagetraining.ie
SUMMARY:On Feirm Ground 2
DESCRIPTION:On Feirm Ground 2 – Wellbeing for Farmers \n  \nThis training is endorsed by the Dept of Agriculture\, Food and Marine\, Department of Health and the H.S.E. \n  \nThe Aim of the training is to equip agricultural professionals and service providers of all genders\, who interact with farmers on the farm\, in the office and over the phone with skills to effectively engage with farmers on their health & wellbeing\, and to signpost farmers who may be struggling relevant support services. \n  \nThe E-learning Component: You will receive a link a week before your in-person workshop. You are required to complete the 2hours self-paced E-learning before you into the room. \n  \n 
URL:https://engagetraining.ie/event/on-feirm-ground-2-12/
LOCATION:ACT Business Development Centre\, Athlone\, Ball Alley Lane\, Athlone\, N37 C8W6\, Ireland
CATEGORIES:Unit 8.1 On Feirm Ground
GEO:53.4219594;-7.9444265
X-APPLE-STRUCTURED-LOCATION;VALUE=URI;X-ADDRESS=ACT Business Development Centre Athlone Ball Alley Lane Athlone N37 C8W6 Ireland;X-APPLE-RADIUS=500;X-TITLE=Ball Alley Lane:geo:-7.9444265,53.4219594
END:VEVENT
BEGIN:VEVENT
DTSTART;TZID=Europe/Dublin:20240606T090000
DTEND;TZID=Europe/Dublin:20240606T153000
DTSTAMP:20260419T211520
CREATED:20240509T083750Z
LAST-MODIFIED:20240509T083750Z
UID:10000071-1717664400-1717687800@engagetraining.ie
SUMMARY:ON FEIRM GROUND 2
DESCRIPTION:On Feirm Ground 2 – Wellbeing for Farmers \n  \nThis training is endorsed by the Dept of Agriculture\, Food and Marine\, Department of Health and the H.S.E. \n  \nThe Aim of the training is to equip agricultural professionals and service providers of all genders\, who interact with farmers on the farm\, in the office and over the phone with skills to effectively engage with farmers on their health & wellbeing\, and to signpost farmers who may be struggling relevant support services. \n  \nThe E-learning Component: You will receive a link a week before your in-person workshop. You are required to complete the 2hours self-paced E-learning before you into the room. \n  \n 
URL:https://engagetraining.ie/event/on-feirm-ground-2-8/
LOCATION:Kildalton Agricultural College\, Kildalton Agricultural College\,\, Piltown\,\, Co. Kilkenny\,\, E32YW08\, Ireland
CATEGORIES:Unit 8.1 On Feirm Ground
GEO:52.3541232;-7.3136435
X-APPLE-STRUCTURED-LOCATION;VALUE=URI;X-ADDRESS=Kildalton Agricultural College Kildalton Agricultural College Piltown Co. Kilkenny E32YW08 Ireland;X-APPLE-RADIUS=500;X-TITLE=Kildalton Agricultural College\,:geo:-7.3136435,52.3541232
END:VEVENT
END:VCALENDAR