BEGIN:VCALENDAR
VERSION:2.0
PRODID:-//Engage Training - ECPv6.15.12.2//NONSGML v1.0//EN
CALSCALE:GREGORIAN
METHOD:PUBLISH
X-WR-CALNAME:Engage Training
X-ORIGINAL-URL:https://engagetraining.ie
X-WR-CALDESC:Events for Engage Training
REFRESH-INTERVAL;VALUE=DURATION:PT1H
X-Robots-Tag:noindex
X-PUBLISHED-TTL:PT1H
BEGIN:VTIMEZONE
TZID:Europe/Dublin
BEGIN:STANDARD
TZOFFSETFROM:+0000
TZOFFSETTO:+0100
TZNAME:IST
DTSTART:20200329T010000
END:STANDARD
BEGIN:DAYLIGHT
TZOFFSETFROM:+0100
TZOFFSETTO:+0000
TZNAME:GMT
DTSTART:20201025T010000
END:DAYLIGHT
BEGIN:STANDARD
TZOFFSETFROM:+0000
TZOFFSETTO:+0100
TZNAME:IST
DTSTART:20210328T010000
END:STANDARD
BEGIN:DAYLIGHT
TZOFFSETFROM:+0100
TZOFFSETTO:+0000
TZNAME:GMT
DTSTART:20211031T010000
END:DAYLIGHT
BEGIN:STANDARD
TZOFFSETFROM:+0000
TZOFFSETTO:+0100
TZNAME:IST
DTSTART:20220327T010000
END:STANDARD
BEGIN:DAYLIGHT
TZOFFSETFROM:+0100
TZOFFSETTO:+0000
TZNAME:GMT
DTSTART:20221030T010000
END:DAYLIGHT
BEGIN:STANDARD
TZOFFSETFROM:+0000
TZOFFSETTO:+0100
TZNAME:IST
DTSTART:20230326T010000
END:STANDARD
BEGIN:DAYLIGHT
TZOFFSETFROM:+0100
TZOFFSETTO:+0000
TZNAME:GMT
DTSTART:20231029T010000
END:DAYLIGHT
END:VTIMEZONE
BEGIN:VEVENT
DTSTART;TZID=Europe/Dublin:20220713T093000
DTEND;TZID=Europe/Dublin:20220713T163000
DTSTAMP:20260419T151800
CREATED:20220510T085954Z
LAST-MODIFIED:20220704T140759Z
UID:10000115-1657704600-1657729800@engagetraining.ie
SUMMARY:FARM Advisor Workshop (Online) CANCELLED
DESCRIPTION:FARM Advisor Workshop \nOn Feirm Ground – Wellbeing for Farmers \nThis Workshop is endorsed by the Dept of Agriculture\, the H.S.E \, Teagasc and the A.C.A. \nThe Aim of Workshop is to help agricultural advisors effectively engage with their farming clients on health & wellbeing issues\, and to signpost them to relevant support services. \nVenue: Online \nDate: Wednesday 13th July\nTime: 9.30am – 4.30pm \nTrainers: Francis Bligh\, Paul Gillen\nMentor: Ann Marie Murphy \n 
URL:https://engagetraining.ie/event/v35/
CATEGORIES:Unit 8: On Feirm Ground
END:VEVENT
BEGIN:VEVENT
DTSTART;TZID=Europe/Dublin:20220630T093000
DTEND;TZID=Europe/Dublin:20220630T163000
DTSTAMP:20260419T151801
CREATED:20220510T084413Z
LAST-MODIFIED:20220628T152720Z
UID:10000113-1656581400-1656606600@engagetraining.ie
SUMMARY:FARM Advisor Workshop (Online) CANCELLED
DESCRIPTION:FARM Advisor Workshop \nOn Feirm Ground – Wellbeing for Farmers \nThis Workshop is endorsed by the Dept of Agriculture\, the H.S.E \, Teagasc and the A.C.A. \nThe Aim of Workshop is to help agricultural advisors effectively engage with their farming clients on health & wellbeing issues\, and to signpost them to relevant support services. \nVenue: Online \nDate: Thursday 30th June\nTime: 9.30am – 4.30pm \nTrainers: Veronica Ryan\, Enda Geoghegan\,\nMentor: Ann Marie Murphy
URL:https://engagetraining.ie/event/v32/
CATEGORIES:Unit 8: On Feirm Ground
END:VEVENT
BEGIN:VEVENT
DTSTART;TZID=Europe/Dublin:20220223T093000
DTEND;TZID=Europe/Dublin:20220223T163000
DTSTAMP:20260419T151801
CREATED:20211215T161532Z
LAST-MODIFIED:20220112T164547Z
UID:10000106-1645608600-1645633800@engagetraining.ie
SUMMARY:FARM Advisor Workshop\, Ballina (Online)
DESCRIPTION:FARM Advisor Workshop\, Ballina\nOn Feirm Ground – Wellbeing for Farmers\nThis Workshop is endorsed by the Dept of Agriculture\, the H.S.E \, Teagasc and the A.C.A.\nThe Aim of Workshop is to help agricultural advisors effectively engage with their farming clients on health & wellbeing issues\, and to signpost them to relevant support services.\nVenue: Teagasc\, Bunree Rd.\, Abbeyhalfquarter\, Ballina\, Co. Mayo\, F26 NY96 \nDate: Wednesday 23rd February\nTime: 9.30am – 4.30pm \nTrainers: Enda Geoghegan & Siobhan Ward\nMentor: Anne Marie Murphy \nhttps://engagetraining.ie/event/ofg-v24/
URL:https://engagetraining.ie/event/ofg-v24/
LOCATION:Teagasc\, Ballina\, Teagasc\, Bunree Rd.\, Abbeyhalfquarter\,\, Ballina\,\, Co. Mayo\,\, F26NY96\, Ireland
CATEGORIES:Unit 8: On Feirm Ground
GEO:54.1119953;-9.1444601
X-APPLE-STRUCTURED-LOCATION;VALUE=URI;X-ADDRESS=Teagasc Ballina Teagasc Bunree Rd. Abbeyhalfquarter Ballina Co. Mayo F26NY96 Ireland;X-APPLE-RADIUS=500;X-TITLE=Teagasc\, Bunree Rd.\, Abbeyhalfquarter\,:geo:-9.1444601,54.1119953
END:VEVENT
BEGIN:VEVENT
DTSTART;TZID=Europe/Dublin:20220209T093000
DTEND;TZID=Europe/Dublin:20220209T163000
DTSTAMP:20260419T151801
CREATED:20211215T145104Z
LAST-MODIFIED:20220112T164148Z
UID:10000102-1644399000-1644424200@engagetraining.ie
SUMMARY:FARM Advisor Workshop\, Ballymote (Online)
DESCRIPTION:FARM Advisor Workshop\, Ballymote\nOn Feirm Ground – Wellbeing for Farmers  \nThis Workshop is endorsed by the Dept of Agriculture\, the H.S.E \, Teagasc and the A.C.A.  \nThe Aim of Workshop is to help agricultural advisors effectively engage with their farming clients on health & wellbeing issues\, and to signpost them to relevant support services.   \nVenue: Teagasc\, Carrownanty\, Ballymote\, Co. Sligo\, F56 A585  \nDate: Wednesday 9th February\nTime: 9.30am – 4.30pm  \nTrainers: Enda Geoghegan & Veronica Ryan\nMentor: Anne Marie Murphy  \nhttps://engagetraining.ie/event/ofg-v20/
URL:https://engagetraining.ie/event/ofg-v20/
LOCATION:Teagasc\, Ballymote\, Teagasc\, Carrownanty\,\, Ballymote\,\, Co. Sligo\, F56A585\, Ireland
CATEGORIES:Unit 8: On Feirm Ground
GEO:54.0882453;-8.5216607
X-APPLE-STRUCTURED-LOCATION;VALUE=URI;X-ADDRESS=Teagasc Ballymote Teagasc Carrownanty Ballymote Co. Sligo F56A585 Ireland;X-APPLE-RADIUS=500;X-TITLE=Teagasc\, Carrownanty\,:geo:-8.5216607,54.0882453
END:VEVENT
BEGIN:VEVENT
DTSTART;TZID=Europe/Dublin:20211020T093000
DTEND;TZID=Europe/Dublin:20211020T163000
DTSTAMP:20260419T151801
CREATED:20210929T183542Z
LAST-MODIFIED:20211020T161048Z
UID:10000085-1634722200-1634747400@engagetraining.ie
SUMMARY:FARM Advisor Workshop\, Ballinrobe
DESCRIPTION:FARM Advisor Workshop\nOn Feirm Ground – Wellbeing for Farmers\nThis Workshop is endorsed by the Dept of Agriculture\, the H.S.E \, Teagasc and the A.C.A.\nThe Aim of Workshop is to help agricultural advisors effectively engage with their farming clients on health & wellbeing issues\, and to signpost them to relevant support services.\nVenue: Teagasc\, Abbey Rd\, Friarsquarter West\, Ballinrobe\, Co. Mayo\, F31 DP26. \nDate: Wednesday 20th October\nTime: 9.30am – 4.30pm \nTrainers: Enda Geoghegan & Siobhan Ward\nMentor: Ann Marie Murphy
URL:https://engagetraining.ie/event/ofg-v3/
LOCATION:Teagasc\, Ballinrobe\, Teagasc\, Abbey Rd\, Friarsquarter West\,\, Ballinrobe\, Co. Mayo\, F31DP26\, Ireland
CATEGORIES:Unit 8: On Feirm Ground
GEO:53.6254959;-9.22087
X-APPLE-STRUCTURED-LOCATION;VALUE=URI;X-ADDRESS=Teagasc Ballinrobe Teagasc Abbey Rd Friarsquarter West Ballinrobe Co. Mayo F31DP26 Ireland;X-APPLE-RADIUS=500;X-TITLE=Teagasc\, Abbey Rd\, Friarsquarter West\,:geo:-9.22087,53.6254959
END:VEVENT
END:VCALENDAR