BEGIN:VCALENDAR
VERSION:2.0
PRODID:-//Engage Training - ECPv6.15.12.2//NONSGML v1.0//EN
CALSCALE:GREGORIAN
METHOD:PUBLISH
X-ORIGINAL-URL:https://engagetraining.ie
X-WR-CALDESC:Events for Engage Training
REFRESH-INTERVAL;VALUE=DURATION:PT1H
X-Robots-Tag:noindex
X-PUBLISHED-TTL:PT1H
BEGIN:VTIMEZONE
TZID:Europe/Dublin
BEGIN:STANDARD
TZOFFSETFROM:+0000
TZOFFSETTO:+0100
TZNAME:IST
DTSTART:20230326T010000
END:STANDARD
BEGIN:DAYLIGHT
TZOFFSETFROM:+0100
TZOFFSETTO:+0000
TZNAME:GMT
DTSTART:20231029T010000
END:DAYLIGHT
BEGIN:STANDARD
TZOFFSETFROM:+0000
TZOFFSETTO:+0100
TZNAME:IST
DTSTART:20240331T010000
END:STANDARD
BEGIN:DAYLIGHT
TZOFFSETFROM:+0100
TZOFFSETTO:+0000
TZNAME:GMT
DTSTART:20241027T010000
END:DAYLIGHT
BEGIN:STANDARD
TZOFFSETFROM:+0000
TZOFFSETTO:+0100
TZNAME:IST
DTSTART:20250330T010000
END:STANDARD
BEGIN:DAYLIGHT
TZOFFSETFROM:+0100
TZOFFSETTO:+0000
TZNAME:GMT
DTSTART:20251026T010000
END:DAYLIGHT
BEGIN:STANDARD
TZOFFSETFROM:+0000
TZOFFSETTO:+0100
TZNAME:IST
DTSTART:20260329T010000
END:STANDARD
BEGIN:DAYLIGHT
TZOFFSETFROM:+0100
TZOFFSETTO:+0000
TZNAME:GMT
DTSTART:20261025T010000
END:DAYLIGHT
END:VTIMEZONE
BEGIN:VEVENT
DTSTART;TZID=Europe/Dublin:20250220T091500
DTEND;TZID=Europe/Dublin:20250220T153000
DTSTAMP:20260419T231555
CREATED:20241120T101938Z
LAST-MODIFIED:20250214T162629Z
UID:10000180-1740042900-1740065400@engagetraining.ie
SUMMARY:On Feirm Ground 2
DESCRIPTION:On Feirm Ground 2 – Wellbeing for Farmers \nThis training is endorsed by the Dept of Agriculture\, Food and the Marine\, Department of Health and the H.S.E. \nThe aim of the training is to equip agricultural professionals and service providers of all genders\, who interact with farmers on the farm\, in the office and over the phone with skills to effectively engage with farmers on their health & wellbeing\, and to signpost farmers who may be struggling relevant support services. \nThe E-learning Component: You will receive a link a week before your in-person workshop. You are required to complete the 2hours self-paced E-learning before you into the room.
URL:https://engagetraining.ie/event/on-feirm-ground-2-66/
CATEGORIES:Unit 8.1 On Feirm Ground
END:VEVENT
BEGIN:VEVENT
DTSTART;TZID=Europe/Dublin:20250206T091500
DTEND;TZID=Europe/Dublin:20250206T153000
DTSTAMP:20260419T231555
CREATED:20250121T085730Z
LAST-MODIFIED:20250122T154650Z
UID:10000200-1738833300-1738855800@engagetraining.ie
SUMMARY:Private Event: On Feirm Ground 2
DESCRIPTION:On Feirm Ground 2 – Wellbeing for Farmers \nThis training is endorsed by the Dept of Agriculture\, Food and the Marine\, Department of Health and the H.S.E. \nThe aim of the training is to equip agricultural professionals and service providers of all genders\, who interact with farmers on the farm\, in the office and over the phone with skills to effectively engage with farmers on their health & wellbeing\, and to signpost farmers who may be struggling relevant support services. \nThe E-learning Component: You will receive a link a week before your in-person workshop. You are required to complete the 2hours self-paced E-learning before you into the room.
URL:https://engagetraining.ie/event/private-event-on-feirm-ground-2-2/
LOCATION:MTU North Campus
CATEGORIES:Unit 8.1 On Feirm Ground
END:VEVENT
BEGIN:VEVENT
DTSTART;TZID=Europe/Dublin:20250204T091500
DTEND;TZID=Europe/Dublin:20250204T153000
DTSTAMP:20260419T231555
CREATED:20241120T100348Z
LAST-MODIFIED:20241120T100348Z
UID:10000174-1738660500-1738683000@engagetraining.ie
SUMMARY:On Feirm Ground 2
DESCRIPTION:On Feirm Ground 2 – Wellbeing for Farmers \nThis training is endorsed by the Dept of Agriculture\, Food and the Marine\, Department of Health and the H.S.E. \nThe aim of the training is to equip agricultural professionals and service providers of all genders\, who interact with farmers on the farm\, in the office and over the phone with skills to effectively engage with farmers on their health & wellbeing\, and to signpost farmers who may be struggling relevant support services. \nThe E-learning Component: You will receive a link a week before your in-person workshop. You are required to complete the 2hours self-paced E-learning before you into the room.
URL:https://engagetraining.ie/event/on-feirm-ground-2-60/
CATEGORIES:Unit 8.1 On Feirm Ground
END:VEVENT
BEGIN:VEVENT
DTSTART;TZID=Europe/Dublin:20250130T091500
DTEND;TZID=Europe/Dublin:20250130T153000
DTSTAMP:20260419T231555
CREATED:20250121T085642Z
LAST-MODIFIED:20250122T155451Z
UID:10000199-1738228500-1738251000@engagetraining.ie
SUMMARY:Private Event: On Feirm Ground 2
DESCRIPTION:On Feirm Ground 2 – Wellbeing for Farmers \nThis training is endorsed by the Dept of Agriculture\, Food and the Marine\, Department of Health and the H.S.E. \nThe aim of the training is to equip agricultural professionals and service providers of all genders\, who interact with farmers on the farm\, in the office and over the phone with skills to effectively engage with farmers on their health & wellbeing\, and to signpost farmers who may be struggling relevant support services. \nThe E-learning Component: You will receive a link a week before your in-person workshop. You are required to complete the 2hours self-paced E-learning before you into the room.
URL:https://engagetraining.ie/event/private-event-on-feirm-ground-2/
LOCATION:MTU North Campus
CATEGORIES:Unit 8.1 On Feirm Ground
END:VEVENT
BEGIN:VEVENT
DTSTART;TZID=Europe/Dublin:20250116T091500
DTEND;TZID=Europe/Dublin:20250116T153000
DTSTAMP:20260419T231555
CREATED:20241120T093642Z
LAST-MODIFIED:20250108T123101Z
UID:10000171-1737018900-1737041400@engagetraining.ie
SUMMARY:On Feirm Ground 2
DESCRIPTION:On Feirm Ground 2 – Wellbeing for Farmers \nThis training is endorsed by the Dept of Agriculture\, Food and the Marine\, Department of Health and the H.S.E. \nThe aim of the training is to equip agricultural professionals and service providers of all genders\, who interact with farmers on the farm\, in the office and over the phone with skills to effectively engage with farmers on their health & wellbeing\, and to signpost farmers who may be struggling relevant support services. \nThe E-learning Component: You will receive a link a week before your in-person workshop. You are required to complete the 2hours self-paced E-learning before you into the room.
URL:https://engagetraining.ie/event/on-feirm-ground-2-57/
CATEGORIES:Unit 8.1 On Feirm Ground
END:VEVENT
BEGIN:VEVENT
DTSTART;TZID=Europe/Dublin:20241128T091500
DTEND;TZID=Europe/Dublin:20241128T153000
DTSTAMP:20260419T231555
CREATED:20240926T143215Z
LAST-MODIFIED:20240926T143253Z
UID:10000164-1732785300-1732807800@engagetraining.ie
SUMMARY:On Feirm Ground 2
DESCRIPTION:On Feirm Ground 2 – Wellbeing for Farmers \nThis training is endorsed by the Dept of Agriculture\, Food and Marine\, Department of Health and the H.S.E. \nThe Aim of the training is to equip agricultural professionals and service providers of all genders\, who interact with farmers on the farm\, in the office and over the phone with skills to effectively engage with farmers on their health & wellbeing\, and to signpost farmers who may be struggling relevant support services. \nThe E-learning Component: You will receive a link a week before your in-person workshop. You are required to complete the 2hours self-paced E-learning before you into the room.
URL:https://engagetraining.ie/event/on-feirm-ground-2-50/
CATEGORIES:Unit 8.1 On Feirm Ground
END:VEVENT
BEGIN:VEVENT
DTSTART;TZID=Europe/Dublin:20241121T091500
DTEND;TZID=Europe/Dublin:20241121T153000
DTSTAMP:20260419T231555
CREATED:20240926T135615Z
LAST-MODIFIED:20241119T164954Z
UID:10000161-1732180500-1732203000@engagetraining.ie
SUMMARY:On Feirm Ground 2
DESCRIPTION:On Feirm Ground 2 – Wellbeing for Farmers \nThis training is endorsed by the Dept of Agriculture\, Food and Marine\, Department of Health and the H.S.E. \nThe Aim of the training is to equip agricultural professionals and service providers of all genders\, who interact with farmers on the farm\, in the office and over the phone with skills to effectively engage with farmers on their health & wellbeing\, and to signpost farmers who may be struggling relevant support services. \nThe E-learning Component: You will receive a link a week before your in-person workshop. You are required to complete the 2hours self-paced E-learning before you into the room.
URL:https://engagetraining.ie/event/on-feirm-ground-2-47/
CATEGORIES:Unit 8.1 On Feirm Ground
END:VEVENT
BEGIN:VEVENT
DTSTART;TZID=Europe/Dublin:20241112T091500
DTEND;TZID=Europe/Dublin:20241112T153000
DTSTAMP:20260419T231555
CREATED:20240926T132429Z
LAST-MODIFIED:20240926T132429Z
UID:10000159-1731402900-1731425400@engagetraining.ie
SUMMARY:On Feirm Ground 2
DESCRIPTION:On Feirm Ground 2 – Wellbeing for Farmers \nThis training is endorsed by the Dept of Agriculture\, Food and Marine\, Department of Health and the H.S.E. \nThe Aim of the training is to equip agricultural professionals and service providers of all genders\, who interact with farmers on the farm\, in the office and over the phone with skills to effectively engage with farmers on their health & wellbeing\, and to signpost farmers who may be struggling relevant support services. \nThe E-learning Component: You will receive a link a week before your in-person workshop. You are required to complete the 2hours self-paced E-learning before you into the room.
URL:https://engagetraining.ie/event/on-feirm-ground-2-45/
CATEGORIES:Unit 8.1 On Feirm Ground
END:VEVENT
BEGIN:VEVENT
DTSTART;TZID=Europe/Dublin:20241022T091500
DTEND;TZID=Europe/Dublin:20241022T153000
DTSTAMP:20260419T231555
CREATED:20240814T074240Z
LAST-MODIFIED:20240814T074241Z
UID:10000155-1729588500-1729611000@engagetraining.ie
SUMMARY:On Feirm Ground 2
DESCRIPTION:On Feirm Ground 2 – Wellbeing for Farmers \n  \nThis training is endorsed by the Dept of Agriculture\, Food and Marine\, Department of Health and the H.S.E. \n  \nThe Aim of the training is to equip agricultural professionals and service providers of all genders\, who interact with farmers on the farm\, in the office and over the phone with skills to effectively engage with farmers on their health & wellbeing\, and to signpost farmers who may be struggling relevant support services. \n  \nThe E-learning Component: You will receive a link a week before your in-person workshop. You are required to complete the 2hours self-paced E-learning before you into the room. – Wellbeing for Farmers \n  \n 
URL:https://engagetraining.ie/event/on-feirm-ground-2-42/
CATEGORIES:Unit 8.1 On Feirm Ground
END:VEVENT
BEGIN:VEVENT
DTSTART;TZID=Europe/Dublin:20241015T091500
DTEND;TZID=Europe/Dublin:20241015T153000
DTSTAMP:20260419T231555
CREATED:20240806T110455Z
LAST-MODIFIED:20240806T110744Z
UID:10000147-1728983700-1729006200@engagetraining.ie
SUMMARY:On Feirm Ground 2
DESCRIPTION:On Feirm Ground 2 – Wellbeing for Farmers \n  \nThis training is endorsed by the Dept of Agriculture\, Food and Marine\, Department of Health and the H.S.E. \n  \nThe Aim of the training is to equip agricultural professionals and service providers of all genders\, who interact with farmers on the farm\, in the office and over the phone with skills to effectively engage with farmers on their health & wellbeing\, and to signpost farmers who may be struggling relevant support services. \n  \nThe E-learning Component: You will receive a link a week before your in-person workshop. You are required to complete the 2hours self-paced E-learning before you into the room. – Wellbeing for Farmers \n  \n 
URL:https://engagetraining.ie/event/on-feirm-ground-2-34/
CATEGORIES:Unit 8.1 On Feirm Ground
END:VEVENT
BEGIN:VEVENT
DTSTART;TZID=Europe/Dublin:20241003T091500
DTEND;TZID=Europe/Dublin:20241003T153000
DTSTAMP:20260419T231555
CREATED:20240802T141133Z
LAST-MODIFIED:20240802T141517Z
UID:10000145-1727946900-1727969400@engagetraining.ie
SUMMARY:On Feirm Ground 2
DESCRIPTION:On Feirm Ground 2 – Wellbeing for Farmers \n  \nThis training is endorsed by the Dept of Agriculture\, Food and Marine\, Department of Health and the H.S.E. \n  \nThe Aim of the training is to equip agricultural professionals and service providers of all genders\, who interact with farmers on the farm\, in the office and over the phone with skills to effectively engage with farmers on their health & wellbeing\, and to signpost farmers who may be struggling relevant support services. \n  \nThe E-learning Component: You will receive a link a week before your in-person workshop. You are required to complete the 2hours self-paced E-learning before you into the room. – Wellbeing for Farmers \n  \n 
URL:https://engagetraining.ie/event/on-feirm-ground-2-32/
CATEGORIES:Unit 8.1 On Feirm Ground
END:VEVENT
BEGIN:VEVENT
DTSTART;TZID=Europe/Dublin:20241001T091500
DTEND;TZID=Europe/Dublin:20241001T153000
DTSTAMP:20260419T231555
CREATED:20240802T140846Z
LAST-MODIFIED:20240802T141455Z
UID:10000144-1727774100-1727796600@engagetraining.ie
SUMMARY:On Feirm Ground 2
DESCRIPTION:On Feirm Ground 2 – Wellbeing for Farmers \n  \nThis training is endorsed by the Dept of Agriculture\, Food and Marine\, Department of Health and the H.S.E. \n  \nThe Aim of the training is to equip agricultural professionals and service providers of all genders\, who interact with farmers on the farm\, in the office and over the phone with skills to effectively engage with farmers on their health & wellbeing\, and to signpost farmers who may be struggling relevant support services. \n  \nThe E-learning Component: You will receive a link a week before your in-person workshop. You are required to complete the 2hours self-paced E-learning before you into the room. – Wellbeing for Farmers \n  \n 
URL:https://engagetraining.ie/event/on-feirm-ground-2-31/
CATEGORIES:Unit 8.1 On Feirm Ground
END:VEVENT
BEGIN:VEVENT
DTSTART;TZID=Europe/Dublin:20240919T091500
DTEND;TZID=Europe/Dublin:20240919T160000
DTSTAMP:20260419T231555
CREATED:20240731T142436Z
LAST-MODIFIED:20240917T085144Z
UID:10000142-1726737300-1726761600@engagetraining.ie
SUMMARY:On Feirm Ground 2
DESCRIPTION:On Feirm Ground 2 – Wellbeing for Farmers \n  \nThis training is endorsed by the Dept of Agriculture\, Food and Marine\, Department of Health and the H.S.E. \n  \nThe Aim of the training is to equip agricultural professionals and service providers of all genders\, who interact with farmers on the farm\, in the office and over the phone with skills to effectively engage with farmers on their health & wellbeing\, and to signpost farmers who may be struggling relevant support services. \n  \nThe E-learning Component: You will receive a link a week before your in-person workshop. You are required to complete the 2hours self-paced E-learning before you into the room.
URL:https://engagetraining.ie/event/on-feirm-ground-2-29/
CATEGORIES:Unit 8.1 On Feirm Ground
END:VEVENT
BEGIN:VEVENT
DTSTART;TZID=Europe/Dublin:20240917T091500
DTEND;TZID=Europe/Dublin:20240917T160000
DTSTAMP:20260419T231555
CREATED:20240731T141937Z
LAST-MODIFIED:20240912T160335Z
UID:10000141-1726564500-1726588800@engagetraining.ie
SUMMARY:On Feirm Ground 2
DESCRIPTION:On Feirm Ground 2 – Wellbeing for Farmers \nThis training is endorsed by the Dept of Agriculture\, Food and Marine\, Department of Health and the H.S.E. \nThe Aim of the training is to equip agricultural professionals and service providers of all genders\, who interact with farmers on the farm\, in the office and over the phone with skills to effectively engage with farmers on their health & wellbeing\, and to signpost farmers who may be struggling relevant support services. \nThe E-learning Component: You will receive a link a week before your in-person workshop. You are required to complete the 2hours self-paced E-learning before you into the room.
URL:https://engagetraining.ie/event/on-feirm-ground-2-28/
CATEGORIES:Unit 8.1 On Feirm Ground
END:VEVENT
BEGIN:VEVENT
DTSTART;TZID=Europe/Dublin:20240912T091500
DTEND;TZID=Europe/Dublin:20240912T160000
DTSTAMP:20260419T231555
CREATED:20240731T141601Z
LAST-MODIFIED:20240911T121835Z
UID:10000140-1726132500-1726156800@engagetraining.ie
SUMMARY:On Feirm Ground 2
DESCRIPTION:On Feirm Ground 2 – Wellbeing for Farmers \nThis training is endorsed by the Dept of Agriculture\, Food and Marine\, Department of Health and the H.S.E. \nThe Aim of the training is to equip agricultural professionals and service providers of all genders\, who interact with farmers on the farm\, in the office and over the phone with skills to effectively engage with farmers on their health & wellbeing\, and to signpost farmers who may be struggling relevant support services. \nThe E-learning Component: You will receive a link a week before your in-person workshop. You are required to complete the 2hours self-paced E-learning before you into the room.
URL:https://engagetraining.ie/event/on-feirm-ground-2-27/
CATEGORIES:Unit 8.1 On Feirm Ground
END:VEVENT
BEGIN:VEVENT
DTSTART;TZID=Europe/Dublin:20240904T091500
DTEND;TZID=Europe/Dublin:20240904T160000
DTSTAMP:20260419T231555
CREATED:20240731T134706Z
LAST-MODIFIED:20240916T235925Z
UID:10000138-1725441300-1725465600@engagetraining.ie
SUMMARY:On Feirm Ground 2
DESCRIPTION:On Feirm Ground 2 – Wellbeing for Farmers \nThis training is endorsed by the Dept of Agriculture\, Food and Marine\, Department of Health and the H.S.E. \nThe Aim of the training is to equip agricultural professionals and service providers of all genders\, who interact with farmers on the farm\, in the office and over the phone with skills to effectively engage with farmers on their health & wellbeing\, and to signpost farmers who may be struggling relevant support services. \nThe E-learning Component: You will receive a link a week before your in-person workshop. You are required to complete the 2hours self-paced E-learning before you into the room.
URL:https://engagetraining.ie/event/on-feirm-ground-2-25/
CATEGORIES:Unit 8.1 On Feirm Ground
END:VEVENT
BEGIN:VEVENT
DTSTART;TZID=Europe/Dublin:20240808T091500
DTEND;TZID=Europe/Dublin:20240808T160000
DTSTAMP:20260419T231555
CREATED:20240704T075542Z
LAST-MODIFIED:20240731T151752Z
UID:10000136-1723108500-1723132800@engagetraining.ie
SUMMARY:On Feirm Ground 2
DESCRIPTION:On Feirm Ground 2 – Wellbeing for Farmers \n  \nThis training is endorsed by the Dept of Agriculture\, Food and Marine\, Department of Health and the H.S.E. \n  \nThe Aim of the training is to equip agricultural professionals and service providers of all genders\, who interact with farmers on the farm\, in the office and over the phone with skills to effectively engage with farmers on their health & wellbeing\, and to signpost farmers who may be struggling relevant support services. \n  \nThe E-learning Component: You will receive a link a week before your in-person workshop. You are required to complete the 2hours self-paced E-learning before you into the room. \n  \n 
URL:https://engagetraining.ie/event/on-feirm-ground-2-23/
CATEGORIES:Unit 8.1 On Feirm Ground
END:VEVENT
BEGIN:VEVENT
DTSTART;TZID=Europe/Dublin:20240730T090000
DTEND;TZID=Europe/Dublin:20240730T153000
DTSTAMP:20260419T231555
CREATED:20240611T081105Z
LAST-MODIFIED:20240715T082126Z
UID:10000130-1722330000-1722353400@engagetraining.ie
SUMMARY:On Feirm Ground 2
DESCRIPTION:On Feirm Ground 2 – Wellbeing for Farmers \n  \nThis training is endorsed by the Dept of Agriculture\, Food and Marine\, Department of Health and the H.S.E. \n  \nThe Aim of the training is to equip agricultural professionals and service providers of all genders\, who interact with farmers on the farm\, in the office and over the phone with skills to effectively engage with farmers on their health & wellbeing\, and to signpost farmers who may be struggling relevant support services. \n  \nThe E-learning Component: You will receive a link a week before your in-person workshop. You are required to complete the 2hours self-paced E-learning before you into the room. \n 
URL:https://engagetraining.ie/event/on-feirm-ground-2-17/
LOCATION:Northside Family Resource Centre (Limerick)\, Limerick\, Limerick\, V94 APX8\, Ireland
CATEGORIES:Unit 8.1 On Feirm Ground
GEO:52.6793213;-8.6439911
END:VEVENT
BEGIN:VEVENT
DTSTART;TZID=Europe/Dublin:20240716T090000
DTEND;TZID=Europe/Dublin:20240716T153000
DTSTAMP:20260419T231555
CREATED:20240611T081959Z
LAST-MODIFIED:20240618T080137Z
UID:10000131-1721120400-1721143800@engagetraining.ie
SUMMARY:On Feirm Ground 2
DESCRIPTION:On Feirm Ground 2 – Wellbeing for Farmers \n  \nThis training is endorsed by the Dept of Agriculture\, Food and Marine\, Department of Health and the H.S.E. \n  \nThe Aim of the training is to equip agricultural professionals and service providers of all genders\, who interact with farmers on the farm\, in the office and over the phone with skills to effectively engage with farmers on their health & wellbeing\, and to signpost farmers who may be struggling relevant support services. \n  \nThe E-learning Component: You will receive a link a week before your in-person workshop. You are required to complete the 2hours self-paced E-learning before you into the room. \n 
URL:https://engagetraining.ie/event/on-feirm-ground-2-18/
LOCATION:Letterkenny\, Donegal\, Ballyraine\, Letterkenny\, Co. Donegal\, F92 VP2T\, Letterkenny\, Donegal\, F92 VP2T\, Ireland
CATEGORIES:Unit 8.1 On Feirm Ground
GEO:54.9610153;-7.7123403
X-APPLE-STRUCTURED-LOCATION;VALUE=URI;X-ADDRESS=Letterkenny Donegal Ballyraine Letterkenny Co. Donegal F92 VP2T Letterkenny Donegal F92 VP2T Ireland;X-APPLE-RADIUS=500;X-TITLE=Ballyraine\, Letterkenny\, Co. Donegal\, F92 VP2T:geo:-7.7123403,54.9610153
END:VEVENT
BEGIN:VEVENT
DTSTART;TZID=Europe/Dublin:20240704T090000
DTEND;TZID=Europe/Dublin:20240704T160000
DTSTAMP:20260419T231555
CREATED:20240613T093801Z
LAST-MODIFIED:20240613T093801Z
UID:10000132-1720083600-1720108800@engagetraining.ie
SUMMARY:On Feirm Ground 2
DESCRIPTION:On Feirm Ground 2 – Wellbeing for Farmers \n  \nThis training is endorsed by the Dept of Agriculture\, Food and Marine\, Department of Health and the H.S.E. \n  \nThe Aim of the training is to equip agricultural professionals and service providers of all genders\, who interact with farmers on the farm\, in the office and over the phone with skills to effectively engage with farmers on their health & wellbeing\, and to signpost farmers who may be struggling relevant support services. \n  \nThe E-learning Component: You will receive a link a week before your in-person workshop. You are required to complete the 2hours self-paced E-learning before you into the room. \n  \n 
URL:https://engagetraining.ie/event/on-feirm-ground-2-19/
LOCATION:Hannons Hotel Athlone Rd\, Acres\, Roscommon\, Co Roscommon\,\, Athlone Road\, Acres\, Athlone Rd\,\, Co Roscommon\, Ireland
CATEGORIES:Unit 8.1 On Feirm Ground
GEO:53.623413;-8.1681108
X-APPLE-STRUCTURED-LOCATION;VALUE=URI;X-ADDRESS=Hannons Hotel Athlone Rd Acres Roscommon Co Roscommon Athlone Road Acres Athlone Rd Co Roscommon Ireland;X-APPLE-RADIUS=500;X-TITLE=Athlone Road:geo:-8.1681108,53.623413
END:VEVENT
BEGIN:VEVENT
DTSTART;TZID=Europe/Dublin:20240628T090000
DTEND;TZID=Europe/Dublin:20240628T153000
DTSTAMP:20260419T231555
CREATED:20240520T102013Z
LAST-MODIFIED:20240624T154548Z
UID:10000073-1719565200-1719588600@engagetraining.ie
SUMMARY:On Feirm Ground 2
DESCRIPTION:On Feirm Ground 2 – Wellbeing for Farmers \n  \nThis training is endorsed by the Dept of Agriculture\, Food and Marine\, Department of Health and the H.S.E. \n  \nThe Aim of the training is to equip agricultural professionals and service providers of all genders\, who interact with farmers on the farm\, in the office and over the phone with skills to effectively engage with farmers on their health & wellbeing\, and to signpost farmers who may be struggling relevant support services. \n  \nThe E-learning Component: You will receive a link a week before your in-person workshop. You are required to complete the 2hours self-paced E-learning before you into the room. \n  \n 
URL:https://engagetraining.ie/event/on-feirm-ground-2-10/
LOCATION:Leixlip Youth & Community Centre\, Leixlip\, Kildare\, Captain's Hill\, Leixlip\, Kildare\, W23 T8W5\, Ireland
CATEGORIES:Unit 8.1 On Feirm Ground
GEO:53.3720414;-6.4865031
X-APPLE-STRUCTURED-LOCATION;VALUE=URI;X-ADDRESS=Leixlip Youth & Community Centre Leixlip Kildare Captain's Hill Leixlip Kildare W23 T8W5 Ireland;X-APPLE-RADIUS=500;X-TITLE=Captain's Hill:geo:-6.4865031,53.3720414
END:VEVENT
BEGIN:VEVENT
DTSTART;TZID=Europe/Dublin:20240624T090000
DTEND;TZID=Europe/Dublin:20240624T153000
DTSTAMP:20260419T231555
CREATED:20240520T151633Z
LAST-MODIFIED:20240520T151633Z
UID:10000074-1719219600-1719243000@engagetraining.ie
SUMMARY:On Feirm Ground 2
DESCRIPTION:On Feirm Ground 2 – Wellbeing for Farmers \n  \nThis training is endorsed by the Dept of Agriculture\, Food and Marine\, Department of Health and the H.S.E. \n  \nThe Aim of the training is to equip agricultural professionals and service providers of all genders\, who interact with farmers on the farm\, in the office and over the phone with skills to effectively engage with farmers on their health & wellbeing\, and to signpost farmers who may be struggling relevant support services. \n  \nThe E-learning Component: You will receive a link a week before your in-person workshop. You are required to complete the 2hours self-paced E-learning before you into the room. \n  \n  \n  \n 
URL:https://engagetraining.ie/event/on-feirm-ground-2-11/
LOCATION:Leitrim Development Company\, Drumshanbo\, Church Street\, Leitrim\, Leitrim\, N41 RF24\, Ireland
CATEGORIES:Unit 8.1 On Feirm Ground
GEO:54.0492844;-8.0439323
X-APPLE-STRUCTURED-LOCATION;VALUE=URI;X-ADDRESS=Leitrim Development Company Drumshanbo Church Street Leitrim Leitrim N41 RF24 Ireland;X-APPLE-RADIUS=500;X-TITLE=Church Street:geo:-8.0439323,54.0492844
END:VEVENT
BEGIN:VEVENT
DTSTART;TZID=Europe/Dublin:20240618T090000
DTEND;TZID=Europe/Dublin:20240618T153000
DTSTAMP:20260419T231555
CREATED:20240524T100327Z
LAST-MODIFIED:20240524T100902Z
UID:10000075-1718701200-1718724600@engagetraining.ie
SUMMARY:On Feirm Ground 2
DESCRIPTION:On Feirm Ground 2 – Wellbeing for Farmers \n  \nThis training is endorsed by the Dept of Agriculture\, Food and Marine\, Department of Health and the H.S.E. \n  \nThe Aim of the training is to equip agricultural professionals and service providers of all genders\, who interact with farmers on the farm\, in the office and over the phone with skills to effectively engage with farmers on their health & wellbeing\, and to signpost farmers who may be struggling relevant support services. \n  \nThe E-learning Component: You will receive a link a week before your in-person workshop. You are required to complete the 2hours self-paced E-learning before you into the room. \n  \n 
URL:https://engagetraining.ie/event/on-feirm-ground-2-12/
LOCATION:ACT Business Development Centre\, Athlone\, Ball Alley Lane\, Athlone\, N37 C8W6\, Ireland
CATEGORIES:Unit 8.1 On Feirm Ground
GEO:53.4219594;-7.9444265
X-APPLE-STRUCTURED-LOCATION;VALUE=URI;X-ADDRESS=ACT Business Development Centre Athlone Ball Alley Lane Athlone N37 C8W6 Ireland;X-APPLE-RADIUS=500;X-TITLE=Ball Alley Lane:geo:-7.9444265,53.4219594
END:VEVENT
END:VCALENDAR