BEGIN:VCALENDAR
VERSION:2.0
PRODID:-//Engage Training - ECPv6.15.12.2//NONSGML v1.0//EN
CALSCALE:GREGORIAN
METHOD:PUBLISH
X-ORIGINAL-URL:https://engagetraining.ie
X-WR-CALDESC:Events for Engage Training
REFRESH-INTERVAL;VALUE=DURATION:PT1H
X-Robots-Tag:noindex
X-PUBLISHED-TTL:PT1H
BEGIN:VTIMEZONE
TZID:Europe/Dublin
BEGIN:STANDARD
TZOFFSETFROM:+0000
TZOFFSETTO:+0100
TZNAME:IST
DTSTART:20230326T010000
END:STANDARD
BEGIN:DAYLIGHT
TZOFFSETFROM:+0100
TZOFFSETTO:+0000
TZNAME:GMT
DTSTART:20231029T010000
END:DAYLIGHT
BEGIN:STANDARD
TZOFFSETFROM:+0000
TZOFFSETTO:+0100
TZNAME:IST
DTSTART:20240331T010000
END:STANDARD
BEGIN:DAYLIGHT
TZOFFSETFROM:+0100
TZOFFSETTO:+0000
TZNAME:GMT
DTSTART:20241027T010000
END:DAYLIGHT
BEGIN:STANDARD
TZOFFSETFROM:+0000
TZOFFSETTO:+0100
TZNAME:IST
DTSTART:20250330T010000
END:STANDARD
BEGIN:DAYLIGHT
TZOFFSETFROM:+0100
TZOFFSETTO:+0000
TZNAME:GMT
DTSTART:20251026T010000
END:DAYLIGHT
BEGIN:STANDARD
TZOFFSETFROM:+0000
TZOFFSETTO:+0100
TZNAME:IST
DTSTART:20260329T010000
END:STANDARD
BEGIN:DAYLIGHT
TZOFFSETFROM:+0100
TZOFFSETTO:+0000
TZNAME:GMT
DTSTART:20261025T010000
END:DAYLIGHT
END:VTIMEZONE
BEGIN:VEVENT
DTSTART;TZID=Europe/Dublin:20250930T090000
DTEND;TZID=Europe/Dublin:20250930T160000
DTSTAMP:20260419T174033
CREATED:20250702T105742Z
LAST-MODIFIED:20250717T113644Z
UID:10000238-1759222800-1759248000@engagetraining.ie
SUMMARY:On Feirm Ground 2 - Wellbeing for Farmers
DESCRIPTION:This training is endorsed by the Dept of Agriculture\, Food and Marine\, Department of Health and the H.S.E. \n  \nThe Aim of the training is to equip agricultural professionals and service providers of all genders\, who interact with farmers on the farm\, in the office and over the phone with skills to effectively engage with farmers on their health & wellbeing\, and to signpost farmers who may be struggling relevant support services. \n  \nThe E-learning Component: You will receive a link a week before your in-person workshop. You are required to complete the 2 hours of self-paced E-learning before you go into the room. \n  \n 
URL:https://engagetraining.ie/event/on-feirm-ground-2-wellbeing-for-farmers-6/
LOCATION:Nenagh\, Tipperary\, Nenagh Arts Centre\, Banba Square\, Nenagh\, Co. Tipperary E45 NX26\, Nenagh\, E45 NX26\, Ireland
CATEGORIES:Unit 8.1 On Feirm Ground
END:VEVENT
BEGIN:VEVENT
DTSTART;TZID=Europe/Dublin:20241203T091500
DTEND;TZID=Europe/Dublin:20241203T153000
DTSTAMP:20260419T174033
CREATED:20241001T093253Z
LAST-MODIFIED:20241001T093253Z
UID:10000167-1733217300-1733239800@engagetraining.ie
SUMMARY:On Feirm Ground 2
DESCRIPTION:On Feirm Ground 2 – Wellbeing for Farmers \nThis training is endorsed by the Dept of Agriculture\, Food and Marine\, Department of Health and the H.S.E. \nThe Aim of the training is to equip agricultural professionals and service providers of all genders\, who interact with farmers on the farm\, in the office and over the phone with skills to effectively engage with farmers on their health & wellbeing\, and to signpost farmers who may be struggling relevant support services. \nThe E-learning Component: You will receive a link a week before your in-person workshop. You are required to complete the 2hours self-paced E-learning before you into the room.
URL:https://engagetraining.ie/event/on-feirm-ground-2-53/
CATEGORIES:Unit 8.1 On Feirm Ground
END:VEVENT
BEGIN:VEVENT
DTSTART;TZID=Europe/Dublin:20241114T091500
DTEND;TZID=Europe/Dublin:20241114T153000
DTSTAMP:20260419T174033
CREATED:20240926T143008Z
LAST-MODIFIED:20240926T143008Z
UID:10000163-1731575700-1731598200@engagetraining.ie
SUMMARY:On Feirm Ground 2
DESCRIPTION:On Feirm Ground 2 – Wellbeing for Farmers \nThis training is endorsed by the Dept of Agriculture\, Food and Marine\, Department of Health and the H.S.E. \nThe Aim of the training is to equip agricultural professionals and service providers of all genders\, who interact with farmers on the farm\, in the office and over the phone with skills to effectively engage with farmers on their health & wellbeing\, and to signpost farmers who may be struggling relevant support services. \nThe E-learning Component: You will receive a link a week before your in-person workshop. You are required to complete the 2hours self-paced E-learning before you into the room.
URL:https://engagetraining.ie/event/on-feirm-ground-2-49/
CATEGORIES:Unit 8.1 On Feirm Ground
END:VEVENT
BEGIN:VEVENT
DTSTART;TZID=Europe/Dublin:20241024T091500
DTEND;TZID=Europe/Dublin:20241024T153000
DTSTAMP:20260419T174033
CREATED:20240802T141420Z
LAST-MODIFIED:20240802T141532Z
UID:10000146-1729761300-1729783800@engagetraining.ie
SUMMARY:On Feirm Ground 2
DESCRIPTION:On Feirm Ground 2 – Wellbeing for Farmers \n  \nThis training is endorsed by the Dept of Agriculture\, Food and Marine\, Department of Health and the H.S.E. \n  \nThe Aim of the training is to equip agricultural professionals and service providers of all genders\, who interact with farmers on the farm\, in the office and over the phone with skills to effectively engage with farmers on their health & wellbeing\, and to signpost farmers who may be struggling relevant support services. \n  \nThe E-learning Component: You will receive a link a week before your in-person workshop. You are required to complete the 2hours self-paced E-learning before you into the room. – Wellbeing for Farmers \n  \n 
URL:https://engagetraining.ie/event/on-feirm-ground-2-33/
CATEGORIES:Unit 8.1 On Feirm Ground
END:VEVENT
BEGIN:VEVENT
DTSTART;TZID=Europe/Dublin:20241001T091500
DTEND;TZID=Europe/Dublin:20241001T153000
DTSTAMP:20260419T174033
CREATED:20240802T140846Z
LAST-MODIFIED:20240802T141455Z
UID:10000144-1727774100-1727796600@engagetraining.ie
SUMMARY:On Feirm Ground 2
DESCRIPTION:On Feirm Ground 2 – Wellbeing for Farmers \n  \nThis training is endorsed by the Dept of Agriculture\, Food and Marine\, Department of Health and the H.S.E. \n  \nThe Aim of the training is to equip agricultural professionals and service providers of all genders\, who interact with farmers on the farm\, in the office and over the phone with skills to effectively engage with farmers on their health & wellbeing\, and to signpost farmers who may be struggling relevant support services. \n  \nThe E-learning Component: You will receive a link a week before your in-person workshop. You are required to complete the 2hours self-paced E-learning before you into the room. – Wellbeing for Farmers \n  \n 
URL:https://engagetraining.ie/event/on-feirm-ground-2-31/
CATEGORIES:Unit 8.1 On Feirm Ground
END:VEVENT
BEGIN:VEVENT
DTSTART;TZID=Europe/Dublin:20240919T091500
DTEND;TZID=Europe/Dublin:20240919T160000
DTSTAMP:20260419T174033
CREATED:20240731T142436Z
LAST-MODIFIED:20240917T085144Z
UID:10000142-1726737300-1726761600@engagetraining.ie
SUMMARY:On Feirm Ground 2
DESCRIPTION:On Feirm Ground 2 – Wellbeing for Farmers \n  \nThis training is endorsed by the Dept of Agriculture\, Food and Marine\, Department of Health and the H.S.E. \n  \nThe Aim of the training is to equip agricultural professionals and service providers of all genders\, who interact with farmers on the farm\, in the office and over the phone with skills to effectively engage with farmers on their health & wellbeing\, and to signpost farmers who may be struggling relevant support services. \n  \nThe E-learning Component: You will receive a link a week before your in-person workshop. You are required to complete the 2hours self-paced E-learning before you into the room.
URL:https://engagetraining.ie/event/on-feirm-ground-2-29/
CATEGORIES:Unit 8.1 On Feirm Ground
END:VEVENT
BEGIN:VEVENT
DTSTART;TZID=Europe/Dublin:20240903T091500
DTEND;TZID=Europe/Dublin:20240903T153000
DTSTAMP:20260419T174033
CREATED:20240731T134158Z
LAST-MODIFIED:20240828T152905Z
UID:10000137-1725354900-1725377400@engagetraining.ie
SUMMARY:On Feirm Ground 2
DESCRIPTION:On Feirm Ground 2 – Wellbeing for Farmers \nThis training is endorsed by the Dept of Agriculture\, Food and Marine\, Department of Health and the H.S.E. \nThe Aim of the training is to equip agricultural professionals and service providers of all genders\, who interact with farmers on the farm\, in the office and over the phone with skills to effectively engage with farmers on their health & wellbeing\, and to signpost farmers who may be struggling relevant support services. \nThe E-learning Component: You will receive a link a week before your in-person workshop. You are required to complete the 2hours self-paced E-learning before you into the room.\nLocal Enterprise Office Kildare. Aras Chill Dara\, Devoy Park\, Naas\, Kildare\, W91 X77F
URL:https://engagetraining.ie/event/on-feirm-ground-2-24/
CATEGORIES:Unit 8.1 On Feirm Ground
END:VEVENT
BEGIN:VEVENT
DTSTART;TZID=Europe/Dublin:20240801T091500
DTEND;TZID=Europe/Dublin:20240801T160000
DTSTAMP:20260419T174033
CREATED:20240701T141340Z
LAST-MODIFIED:20240731T151905Z
UID:10000135-1722503700-1722528000@engagetraining.ie
SUMMARY:On Feirm Ground 2
DESCRIPTION:On Feirm Ground 2 – Wellbeing for Farmers \n  \nThis training is endorsed by the Dept of Agriculture\, Food and Marine\, Department of Health and the H.S.E. \n  \nThe Aim of the training is to equip agricultural professionals and service providers of all genders\, who interact with farmers on the farm\, in the office and over the phone with skills to effectively engage with farmers on their health & wellbeing\, and to signpost farmers who may be struggling relevant support services. \n  \nThe E-learning Component: You will receive a link a week before your in-person workshop. You are required to complete the 2hours self-paced E-learning before you into the room. \n  \n– Wellbeing for Farmers \n  \nThis training is endorsed by the Dept of Agriculture\, Food and Marine\, Department of Health and the H.S.E. \n  \nThe Aim of the training is to equip agricultural professionals and service providers of all genders\, who interact with farmers on the farm\, in the office and over the phone with skills to effectively engage with farmers on their health & wellbeing\, and to signpost farmers who may be struggling relevant support services. \n  \nThe E-learning Component: You will receive a link a week before your in-person workshop. You are required to complete the 2hours self-paced E-learning before you into the room. \n 
URL:https://engagetraining.ie/event/on-feirm-ground-2-22/
CATEGORIES:Unit 8.1 On Feirm Ground
END:VEVENT
BEGIN:VEVENT
DTSTART;TZID=Europe/Dublin:20240725T090000
DTEND;TZID=Europe/Dublin:20240725T153000
DTSTAMP:20260419T174033
CREATED:20240626T150618Z
LAST-MODIFIED:20240718T154947Z
UID:10000133-1721898000-1721921400@engagetraining.ie
SUMMARY:On Feirm Ground 2
DESCRIPTION:On Feirm Ground 2 – Wellbeing for Farmers \n  \nThis training is endorsed by the Dept of Agriculture\, Food and Marine\, Department of Health and the H.S.E. \n  \nThe Aim of the training is to equip agricultural professionals and service providers of all genders\, who interact with farmers on the farm\, in the office and over the phone with skills to effectively engage with farmers on their health & wellbeing\, and to signpost farmers who may be struggling relevant support services. \n  \nThe E-learning Component: You will receive a link a week before your in-person workshop. You are required to complete the 2hours self-paced E-learning before you into the room.
URL:https://engagetraining.ie/event/on-feirm-ground-2-20/
LOCATION:Nano Nagle Place (Cork)\, Douglas Street\, Cork\, Cork\, T12 X70A\, Ireland
CATEGORIES:Unit 8.1 On Feirm Ground
GEO:51.8937971;-8.4732998
X-APPLE-STRUCTURED-LOCATION;VALUE=URI;X-ADDRESS=Nano Nagle Place (Cork) Douglas Street Cork Cork T12 X70A Ireland;X-APPLE-RADIUS=500;X-TITLE=Douglas Street:geo:-8.4732998,51.8937971
END:VEVENT
BEGIN:VEVENT
DTSTART;TZID=Europe/Dublin:20240723T090000
DTEND;TZID=Europe/Dublin:20240723T160000
DTSTAMP:20260419T174033
CREATED:20240701T080857Z
LAST-MODIFIED:20240718T155013Z
UID:10000134-1721725200-1721750400@engagetraining.ie
SUMMARY:On Feirm Ground 2
DESCRIPTION:On Feirm Ground 2 – Wellbeing for Farmers \n  \nThis training is endorsed by the Dept of Agriculture\, Food and Marine\, Department of Health and the H.S.E. \n  \nThe Aim of the training is to equip agricultural professionals and service providers of all genders\, who interact with farmers on the farm\, in the office and over the phone with skills to effectively engage with farmers on their health & wellbeing\, and to signpost farmers who may be struggling relevant support services. \n  \nThe E-learning Component: You will receive a link a week before your in-person workshop. You are required to complete the 2hours self-paced E-learning before you into the room. \n  \n 
URL:https://engagetraining.ie/event/on-feirm-ground-2-21/
LOCATION:Gurteen College (Tipperary)\, Co Tipperary\, Tipperrary\, E53 TP93\, Ireland
CATEGORIES:Unit 8.1 On Feirm Ground
GEO:53.0409007;-8.0112389
END:VEVENT
BEGIN:VEVENT
DTSTART;TZID=Europe/Dublin:20240718T090000
DTEND;TZID=Europe/Dublin:20240718T153000
DTSTAMP:20260419T174033
CREATED:20240607T080646Z
LAST-MODIFIED:20240715T082324Z
UID:10000129-1721293200-1721316600@engagetraining.ie
SUMMARY:On Feirm Ground 2
DESCRIPTION:On Feirm Ground 2 – Wellbeing for Farmers \n  \nThis training is endorsed by the Dept of Agriculture\, Food and Marine\, Department of Health and the H.S.E. \n  \nThe Aim of the training is to equip agricultural professionals and service providers of all genders\, who interact with farmers on the farm\, in the office and over the phone with skills to effectively engage with farmers on their health & wellbeing\, and to signpost farmers who may be struggling relevant support services. \n  \nThe E-learning Component: You will receive a link a week before your in-person workshop. You are required to complete the 2hours self-paced E-learning before you into the room. \n  \n 
URL:https://engagetraining.ie/event/on-feirm-ground-2-16/
LOCATION:Tralee Education Support Centre\, Tralee\, Kerry\, V92 HK52\, Ireland
CATEGORIES:Unit 8.1 On Feirm Ground
GEO:52.2877166;-9.6750326
END:VEVENT
BEGIN:VEVENT
DTSTART;TZID=Europe/Dublin:20240711T090000
DTEND;TZID=Europe/Dublin:20240711T153000
DTSTAMP:20260419T174033
CREATED:20240607T080207Z
LAST-MODIFIED:20240705T090906Z
UID:10000078-1720688400-1720711800@engagetraining.ie
SUMMARY:On Feirm Ground 2
DESCRIPTION:On Feirm Ground 2 – Wellbeing for Farmers \n  \nThis training is endorsed by the Dept of Agriculture\, Food and Marine\, Department of Health and the H.S.E. \n  \nThe Aim of the training is to equip agricultural professionals and service providers of all genders\, who interact with farmers on the farm\, in the office and over the phone with skills to effectively engage with farmers on their health & wellbeing\, and to signpost farmers who may be struggling relevant support services. \n  \nThe E-learning Component: You will receive a link a week before your in-person workshop. You are required to complete the 2hours self-paced E-learning before you into the room. \n  \n 
URL:https://engagetraining.ie/event/on-feirm-ground-2-15/
LOCATION:Waterford City\, EQUALITY HOUSE 49-50 O'Connell Street\, Waterford\, X91 E866\, Waterford\, Waterford\,\, X91 E866\, Ireland
CATEGORIES:Unit 8.1 On Feirm Ground
GEO:52.2627057;-7.1161453
X-APPLE-STRUCTURED-LOCATION;VALUE=URI;X-ADDRESS=Waterford City EQUALITY HOUSE 49-50 O'Connell Street Waterford X91 E866 Waterford Waterford X91 E866 Ireland;X-APPLE-RADIUS=500;X-TITLE=EQUALITY HOUSE 49-50 O'Connell Street\, Waterford\, X91 E866:geo:-7.1161453,52.2627057
END:VEVENT
END:VCALENDAR