BEGIN:VCALENDAR
VERSION:2.0
PRODID:-//Engage Training - ECPv6.15.12.2//NONSGML v1.0//EN
CALSCALE:GREGORIAN
METHOD:PUBLISH
X-ORIGINAL-URL:https://engagetraining.ie
X-WR-CALDESC:Events for Engage Training
REFRESH-INTERVAL;VALUE=DURATION:PT1H
X-Robots-Tag:noindex
X-PUBLISHED-TTL:PT1H
BEGIN:VTIMEZONE
TZID:Europe/Dublin
BEGIN:STANDARD
TZOFFSETFROM:+0000
TZOFFSETTO:+0100
TZNAME:IST
DTSTART:20200329T010000
END:STANDARD
BEGIN:DAYLIGHT
TZOFFSETFROM:+0100
TZOFFSETTO:+0000
TZNAME:GMT
DTSTART:20201025T010000
END:DAYLIGHT
BEGIN:STANDARD
TZOFFSETFROM:+0000
TZOFFSETTO:+0100
TZNAME:IST
DTSTART:20210328T010000
END:STANDARD
BEGIN:DAYLIGHT
TZOFFSETFROM:+0100
TZOFFSETTO:+0000
TZNAME:GMT
DTSTART:20211031T010000
END:DAYLIGHT
BEGIN:STANDARD
TZOFFSETFROM:+0000
TZOFFSETTO:+0100
TZNAME:IST
DTSTART:20220327T010000
END:STANDARD
BEGIN:DAYLIGHT
TZOFFSETFROM:+0100
TZOFFSETTO:+0000
TZNAME:GMT
DTSTART:20221030T010000
END:DAYLIGHT
BEGIN:STANDARD
TZOFFSETFROM:+0000
TZOFFSETTO:+0100
TZNAME:IST
DTSTART:20230326T010000
END:STANDARD
BEGIN:DAYLIGHT
TZOFFSETFROM:+0100
TZOFFSETTO:+0000
TZNAME:GMT
DTSTART:20231029T010000
END:DAYLIGHT
END:VTIMEZONE
BEGIN:VEVENT
DTSTART;TZID=Europe/Dublin:20220713T093000
DTEND;TZID=Europe/Dublin:20220713T163000
DTSTAMP:20260419T172032
CREATED:20220510T085954Z
LAST-MODIFIED:20220704T140759Z
UID:10000115-1657704600-1657729800@engagetraining.ie
SUMMARY:FARM Advisor Workshop (Online) CANCELLED
DESCRIPTION:FARM Advisor Workshop \nOn Feirm Ground – Wellbeing for Farmers \nThis Workshop is endorsed by the Dept of Agriculture\, the H.S.E \, Teagasc and the A.C.A. \nThe Aim of Workshop is to help agricultural advisors effectively engage with their farming clients on health & wellbeing issues\, and to signpost them to relevant support services. \nVenue: Online \nDate: Wednesday 13th July\nTime: 9.30am – 4.30pm \nTrainers: Francis Bligh\, Paul Gillen\nMentor: Ann Marie Murphy \n 
URL:https://engagetraining.ie/event/v35/
CATEGORIES:Unit 8: On Feirm Ground
END:VEVENT
BEGIN:VEVENT
DTSTART;TZID=Europe/Dublin:20220623T093000
DTEND;TZID=Europe/Dublin:20220623T163000
DTSTAMP:20260419T172032
CREATED:20220510T082832Z
LAST-MODIFIED:20220516T082145Z
UID:10000111-1655976600-1656001800@engagetraining.ie
SUMMARY:FARM Advisor Workshop (Online)
DESCRIPTION:FARM Advisor Workshop \nOn Feirm Ground – Wellbeing for Farmers \nThis Workshop is endorsed by the Dept of Agriculture\, the H.S.E \, Teagasc and the A.C.A. \nThe Aim of Workshop is to help agricultural advisors effectively engage with their farming clients on health & wellbeing issues\, and to signpost them to relevant support services. \nVenue: Online \nDate: Thursday 23th June\nTime: 9.30am – 4.30pm \nTrainers: Francis Bligh\nMentor: Paul Gillen
URL:https://engagetraining.ie/event/v30/
CATEGORIES:Unit 8: On Feirm Ground
END:VEVENT
BEGIN:VEVENT
DTSTART;TZID=Europe/Dublin:20220215T093000
DTEND;TZID=Europe/Dublin:20220215T163000
DTSTAMP:20260419T172032
CREATED:20211215T150051Z
LAST-MODIFIED:20220112T164258Z
UID:10000103-1644917400-1644942600@engagetraining.ie
SUMMARY:FARM Advisor Workshop\, Athenry (Online)
DESCRIPTION:FARM Advisor Workshop\, Athenry\nOn Feirm Ground – Wellbeing for Farmers  \nThis Workshop is endorsed by the Dept of Agriculture\, the H.S.E \, Teagasc and the A.C.A.  \nThe Aim of Workshop is to help agricultural advisors effectively engage with their farming clients on health & wellbeing issues\, and to signpost them to relevant support services.   \nVenue: Teagasc\, Mellows Campus\, Athenry\, Co. Galway\, H65 R718 \nDate: Tuesday 15th February\nTime: 9.30am – 4.30pm  \nTrainers: Francis Bligh & Seamus Cusack\nMentor: Paul Gillen  \nhttps://engagetraining.ie/event/ofg-v21/  
URL:https://engagetraining.ie/event/ofg-v21/
LOCATION:Teagasc\, Athenry\, Teagasc\, Mellows Campus\,\, Athenry\, Co. Galway\, H65R718\, Ireland
CATEGORIES:Unit 8: On Feirm Ground
GEO:53.2878512;-8.7789324
X-APPLE-STRUCTURED-LOCATION;VALUE=URI;X-ADDRESS=Teagasc Athenry Teagasc Mellows Campus Athenry Co. Galway H65R718 Ireland;X-APPLE-RADIUS=500;X-TITLE=Teagasc\, Mellows Campus\,:geo:-8.7789324,53.2878512
END:VEVENT
BEGIN:VEVENT
DTSTART;TZID=Europe/Dublin:20211026T093000
DTEND;TZID=Europe/Dublin:20211026T163000
DTSTAMP:20260419T172032
CREATED:20210929T211303Z
LAST-MODIFIED:20211020T151405Z
UID:10000086-1635240600-1635265800@engagetraining.ie
SUMMARY:FARM Advisor Workshop\, Ballinasloe
DESCRIPTION:FARM Advisor Workshop\nOn Feirm Ground – Wellbeing for Farmers\nThis Workshop is endorsed by the Dept of Agriculture\, the H.S.E \, Teagasc and the A.C.A.\nThe Aim of Workshop is to help agricultural advisors effectively engage with their farming clients on health & wellbeing issues\, and to signpost them to relevant support services.\nPLEASE NOTE  VENUE CHANGE! \nVenue: Shearwater Hotel\, Marina Point\, Townparks\, Ballinasloe\, Co. Galway\, H53 F5P9 \nDate: Tuesday 26th October\nTime: 9.30am – 4.30pm \nTrainers: Francis Bligh & Ross Jackson\nMentor: Paul Gillen
URL:https://engagetraining.ie/event/ofg-v4/
LOCATION:Shearwater Hotel\, Ballinasloe\, Marina Point\, Townparks\, Ballinasloe\, Co. Galway\, H53F5P9\, Ireland
CATEGORIES:Unit 8: On Feirm Ground
GEO:53.3266428;-8.219514
X-APPLE-STRUCTURED-LOCATION;VALUE=URI;X-ADDRESS=Shearwater Hotel Ballinasloe Marina Point Townparks Ballinasloe Co. Galway H53F5P9 Ireland;X-APPLE-RADIUS=500;X-TITLE=Marina Point\, Townparks:geo:-8.219514,53.3266428
END:VEVENT
END:VCALENDAR