BEGIN:VCALENDAR
VERSION:2.0
PRODID:-//Engage Training - ECPv6.15.12.2//NONSGML v1.0//EN
CALSCALE:GREGORIAN
METHOD:PUBLISH
X-WR-CALNAME:Engage Training
X-ORIGINAL-URL:https://engagetraining.ie
X-WR-CALDESC:Events for Engage Training
REFRESH-INTERVAL;VALUE=DURATION:PT1H
X-Robots-Tag:noindex
X-PUBLISHED-TTL:PT1H
BEGIN:VTIMEZONE
TZID:Europe/Dublin
BEGIN:STANDARD
TZOFFSETFROM:+0000
TZOFFSETTO:+0100
TZNAME:IST
DTSTART:20230326T010000
END:STANDARD
BEGIN:DAYLIGHT
TZOFFSETFROM:+0100
TZOFFSETTO:+0000
TZNAME:GMT
DTSTART:20231029T010000
END:DAYLIGHT
BEGIN:STANDARD
TZOFFSETFROM:+0000
TZOFFSETTO:+0100
TZNAME:IST
DTSTART:20240331T010000
END:STANDARD
BEGIN:DAYLIGHT
TZOFFSETFROM:+0100
TZOFFSETTO:+0000
TZNAME:GMT
DTSTART:20241027T010000
END:DAYLIGHT
BEGIN:STANDARD
TZOFFSETFROM:+0000
TZOFFSETTO:+0100
TZNAME:IST
DTSTART:20250330T010000
END:STANDARD
BEGIN:DAYLIGHT
TZOFFSETFROM:+0100
TZOFFSETTO:+0000
TZNAME:GMT
DTSTART:20251026T010000
END:DAYLIGHT
BEGIN:STANDARD
TZOFFSETFROM:+0000
TZOFFSETTO:+0100
TZNAME:IST
DTSTART:20260329T010000
END:STANDARD
BEGIN:DAYLIGHT
TZOFFSETFROM:+0100
TZOFFSETTO:+0000
TZNAME:GMT
DTSTART:20261025T010000
END:DAYLIGHT
END:VTIMEZONE
BEGIN:VEVENT
DTSTART;TZID=Europe/Dublin:20250116T091500
DTEND;TZID=Europe/Dublin:20250116T153000
DTSTAMP:20260420T011027
CREATED:20241120T093642Z
LAST-MODIFIED:20250108T123101Z
UID:10000171-1737018900-1737041400@engagetraining.ie
SUMMARY:On Feirm Ground 2
DESCRIPTION:On Feirm Ground 2 – Wellbeing for Farmers \nThis training is endorsed by the Dept of Agriculture\, Food and the Marine\, Department of Health and the H.S.E. \nThe aim of the training is to equip agricultural professionals and service providers of all genders\, who interact with farmers on the farm\, in the office and over the phone with skills to effectively engage with farmers on their health & wellbeing\, and to signpost farmers who may be struggling relevant support services. \nThe E-learning Component: You will receive a link a week before your in-person workshop. You are required to complete the 2hours self-paced E-learning before you into the room.
URL:https://engagetraining.ie/event/on-feirm-ground-2-57/
CATEGORIES:Unit 8.1 On Feirm Ground
END:VEVENT
BEGIN:VEVENT
DTSTART;TZID=Europe/Dublin:20250114T091500
DTEND;TZID=Europe/Dublin:20250114T153000
DTSTAMP:20260420T011027
CREATED:20241120T093114Z
LAST-MODIFIED:20250107T125818Z
UID:10000170-1736846100-1736868600@engagetraining.ie
SUMMARY:On Feirm Ground 2
DESCRIPTION:On Feirm Ground 2 – Wellbeing for Farmers \nThis training is endorsed by the Dept of Agriculture\, Food and the Marine\, Department of Health and the H.S.E. \nThe aim of the training is to equip agricultural professionals and service providers of all genders\, who interact with farmers on the farm\, in the office and over the phone with skills to effectively engage with farmers on their health & wellbeing\, and to signpost farmers who may be struggling relevant support services. \nThe E-learning Component: You will receive a link a week before your in-person workshop. You are required to complete the 2hours self-paced E-learning before you into the room.
URL:https://engagetraining.ie/event/on-feirm-ground-2-56/
CATEGORIES:Unit 8.1 On Feirm Ground
END:VEVENT
BEGIN:VEVENT
DTSTART;TZID=Europe/Dublin:20241128T091500
DTEND;TZID=Europe/Dublin:20241128T153000
DTSTAMP:20260420T011027
CREATED:20240926T143215Z
LAST-MODIFIED:20240926T143253Z
UID:10000164-1732785300-1732807800@engagetraining.ie
SUMMARY:On Feirm Ground 2
DESCRIPTION:On Feirm Ground 2 – Wellbeing for Farmers \nThis training is endorsed by the Dept of Agriculture\, Food and Marine\, Department of Health and the H.S.E. \nThe Aim of the training is to equip agricultural professionals and service providers of all genders\, who interact with farmers on the farm\, in the office and over the phone with skills to effectively engage with farmers on their health & wellbeing\, and to signpost farmers who may be struggling relevant support services. \nThe E-learning Component: You will receive a link a week before your in-person workshop. You are required to complete the 2hours self-paced E-learning before you into the room.
URL:https://engagetraining.ie/event/on-feirm-ground-2-50/
CATEGORIES:Unit 8.1 On Feirm Ground
END:VEVENT
BEGIN:VEVENT
DTSTART;TZID=Europe/Dublin:20241121T091500
DTEND;TZID=Europe/Dublin:20241121T153000
DTSTAMP:20260420T011027
CREATED:20240926T135615Z
LAST-MODIFIED:20241119T164954Z
UID:10000161-1732180500-1732203000@engagetraining.ie
SUMMARY:On Feirm Ground 2
DESCRIPTION:On Feirm Ground 2 – Wellbeing for Farmers \nThis training is endorsed by the Dept of Agriculture\, Food and Marine\, Department of Health and the H.S.E. \nThe Aim of the training is to equip agricultural professionals and service providers of all genders\, who interact with farmers on the farm\, in the office and over the phone with skills to effectively engage with farmers on their health & wellbeing\, and to signpost farmers who may be struggling relevant support services. \nThe E-learning Component: You will receive a link a week before your in-person workshop. You are required to complete the 2hours self-paced E-learning before you into the room.
URL:https://engagetraining.ie/event/on-feirm-ground-2-47/
CATEGORIES:Unit 8.1 On Feirm Ground
END:VEVENT
BEGIN:VEVENT
DTSTART;TZID=Europe/Dublin:20241113T091500
DTEND;TZID=Europe/Dublin:20241113T153000
DTSTAMP:20260420T011027
CREATED:20240926T132733Z
LAST-MODIFIED:20241107T083550Z
UID:10000160-1731489300-1731511800@engagetraining.ie
SUMMARY:On Feirm Ground 2
DESCRIPTION:On Feirm Ground 2 – Wellbeing for Farmers \nThis training is endorsed by the Dept of Agriculture\, Food and Marine\, Department of Health and the H.S.E. \nThe Aim of the training is to equip agricultural professionals and service providers of all genders\, who interact with farmers on the farm\, in the office and over the phone with skills to effectively engage with farmers on their health & wellbeing\, and to signpost farmers who may be struggling relevant support services. \nThe E-learning Component: You will receive a link a week before your in-person workshop. You are required to complete the 2hours self-paced E-learning before you into the room.
URL:https://engagetraining.ie/event/on-feirm-ground-2-46/
CATEGORIES:Unit 8.1 On Feirm Ground
END:VEVENT
BEGIN:VEVENT
DTSTART;TZID=Europe/Dublin:20241112T091500
DTEND;TZID=Europe/Dublin:20241112T153000
DTSTAMP:20260420T011027
CREATED:20240926T132429Z
LAST-MODIFIED:20240926T132429Z
UID:10000159-1731402900-1731425400@engagetraining.ie
SUMMARY:On Feirm Ground 2
DESCRIPTION:On Feirm Ground 2 – Wellbeing for Farmers \nThis training is endorsed by the Dept of Agriculture\, Food and Marine\, Department of Health and the H.S.E. \nThe Aim of the training is to equip agricultural professionals and service providers of all genders\, who interact with farmers on the farm\, in the office and over the phone with skills to effectively engage with farmers on their health & wellbeing\, and to signpost farmers who may be struggling relevant support services. \nThe E-learning Component: You will receive a link a week before your in-person workshop. You are required to complete the 2hours self-paced E-learning before you into the room.
URL:https://engagetraining.ie/event/on-feirm-ground-2-45/
CATEGORIES:Unit 8.1 On Feirm Ground
END:VEVENT
BEGIN:VEVENT
DTSTART;TZID=Europe/Dublin:20241031T091500
DTEND;TZID=Europe/Dublin:20241031T153000
DTSTAMP:20260420T011027
CREATED:20240806T111400Z
LAST-MODIFIED:20240806T111400Z
UID:10000148-1730366100-1730388600@engagetraining.ie
SUMMARY:On Feirm Ground 2
DESCRIPTION:On Feirm Ground 2 – Wellbeing for Farmers \n  \nThis training is endorsed by the Dept of Agriculture\, Food and Marine\, Department of Health and the H.S.E. \n  \nThe Aim of the training is to equip agricultural professionals and service providers of all genders\, who interact with farmers on the farm\, in the office and over the phone with skills to effectively engage with farmers on their health & wellbeing\, and to signpost farmers who may be struggling relevant support services. \n  \nThe E-learning Component: You will receive a link a week before your in-person workshop. You are required to complete the 2hours self-paced E-learning before you into the room. – Wellbeing for Farmers \n  \n 
URL:https://engagetraining.ie/event/on-feirm-ground-2-35/
CATEGORIES:Unit 8.1 On Feirm Ground
END:VEVENT
BEGIN:VEVENT
DTSTART;TZID=Europe/Dublin:20241029T091500
DTEND;TZID=Europe/Dublin:20241029T153000
DTSTAMP:20260420T011027
CREATED:20240807T090828Z
LAST-MODIFIED:20240807T090828Z
UID:10000151-1730193300-1730215800@engagetraining.ie
SUMMARY:On Feirm Ground 2
DESCRIPTION:On Feirm Ground 2 – Wellbeing for Farmers \n  \nThis training is endorsed by the Dept of Agriculture\, Food and Marine\, Department of Health and the H.S.E. \n  \nThe Aim of the training is to equip agricultural professionals and service providers of all genders\, who interact with farmers on the farm\, in the office and over the phone with skills to effectively engage with farmers on their health & wellbeing\, and to signpost farmers who may be struggling relevant support services. \n  \nThe E-learning Component: You will receive a link a week before your in-person workshop. You are required to complete the 2hours self-paced E-learning before you into the room. – Wellbeing for Farmers \n  \n 
URL:https://engagetraining.ie/event/on-feirm-ground-2-38/
CATEGORIES:Unit 8.1 On Feirm Ground
END:VEVENT
BEGIN:VEVENT
DTSTART;TZID=Europe/Dublin:20241010T091500
DTEND;TZID=Europe/Dublin:20241010T153000
DTSTAMP:20260420T011027
CREATED:20240807T082614Z
LAST-MODIFIED:20240807T082614Z
UID:10000150-1728551700-1728574200@engagetraining.ie
SUMMARY:On Feirm Ground 2
DESCRIPTION:On Feirm Ground 2 – Wellbeing for Farmers \n  \nThis training is endorsed by the Dept of Agriculture\, Food and Marine\, Department of Health and the H.S.E. \n  \nThe Aim of the training is to equip agricultural professionals and service providers of all genders\, who interact with farmers on the farm\, in the office and over the phone with skills to effectively engage with farmers on their health & wellbeing\, and to signpost farmers who may be struggling relevant support services. \n  \nThe E-learning Component: You will receive a link a week before your in-person workshop. You are required to complete the 2hours self-paced E-learning before you into the room. – Wellbeing for Farmers \n  \n 
URL:https://engagetraining.ie/event/on-feirm-ground-2-37/
CATEGORIES:Unit 8.1 On Feirm Ground
END:VEVENT
BEGIN:VEVENT
DTSTART;TZID=Europe/Dublin:20241009T091500
DTEND;TZID=Europe/Dublin:20241009T153000
DTSTAMP:20260420T011027
CREATED:20240813T154753Z
LAST-MODIFIED:20240814T074339Z
UID:10000154-1728465300-1728487800@engagetraining.ie
SUMMARY:On Feirm Ground 2
DESCRIPTION:On Feirm Ground 2 – Wellbeing for Farmers \n  \nThis training is endorsed by the Dept of Agriculture\, Food and Marine\, Department of Health and the H.S.E. \n  \nThe Aim of the training is to equip agricultural professionals and service providers of all genders\, who interact with farmers on the farm\, in the office and over the phone with skills to effectively engage with farmers on their health & wellbeing\, and to signpost farmers who may be struggling relevant support services. \n  \nThe E-learning Component: You will receive a link a week before your in-person workshop. You are required to complete the 2hours self-paced E-learning before you into the room. – Wellbeing for Farmers \n  \n 
URL:https://engagetraining.ie/event/on-feirm-ground-2-41/
CATEGORIES:Unit 8.1 On Feirm Ground
END:VEVENT
BEGIN:VEVENT
DTSTART;TZID=Europe/Dublin:20241003T091500
DTEND;TZID=Europe/Dublin:20241003T153000
DTSTAMP:20260420T011027
CREATED:20240802T141133Z
LAST-MODIFIED:20240802T141517Z
UID:10000145-1727946900-1727969400@engagetraining.ie
SUMMARY:On Feirm Ground 2
DESCRIPTION:On Feirm Ground 2 – Wellbeing for Farmers \n  \nThis training is endorsed by the Dept of Agriculture\, Food and Marine\, Department of Health and the H.S.E. \n  \nThe Aim of the training is to equip agricultural professionals and service providers of all genders\, who interact with farmers on the farm\, in the office and over the phone with skills to effectively engage with farmers on their health & wellbeing\, and to signpost farmers who may be struggling relevant support services. \n  \nThe E-learning Component: You will receive a link a week before your in-person workshop. You are required to complete the 2hours self-paced E-learning before you into the room. – Wellbeing for Farmers \n  \n 
URL:https://engagetraining.ie/event/on-feirm-ground-2-32/
CATEGORIES:Unit 8.1 On Feirm Ground
END:VEVENT
BEGIN:VEVENT
DTSTART;TZID=Europe/Dublin:20240926T091500
DTEND;TZID=Europe/Dublin:20240926T160000
DTSTAMP:20260420T011027
CREATED:20240731T142835Z
LAST-MODIFIED:20240731T152607Z
UID:10000143-1727342100-1727366400@engagetraining.ie
SUMMARY:On Feirm Ground 2
DESCRIPTION:On Feirm Ground 2 – Wellbeing for Farmers \n  \nThis training is endorsed by the Dept of Agriculture\, Food and Marine\, Department of Health and the H.S.E. \n  \nThe Aim of the training is to equip agricultural professionals and service providers of all genders\, who interact with farmers on the farm\, in the office and over the phone with skills to effectively engage with farmers on their health & wellbeing\, and to signpost farmers who may be struggling relevant support services. \n  \nThe E-learning Component: You will receive a link a week before your in-person workshop. You are required to complete the 2hours self-paced E-learning before you into the room. – Wellbeing for Farmers \n  \n 
URL:https://engagetraining.ie/event/on-feirm-ground-2-30/
CATEGORIES:Unit 8.1 On Feirm Ground
END:VEVENT
BEGIN:VEVENT
DTSTART;TZID=Europe/Dublin:20240924T091500
DTEND;TZID=Europe/Dublin:20240924T153000
DTSTAMP:20260420T011027
CREATED:20240813T144742Z
LAST-MODIFIED:20240813T144742Z
UID:10000153-1727169300-1727191800@engagetraining.ie
SUMMARY:On Feirm Ground 2
DESCRIPTION:On Feirm Ground 2 – Wellbeing for Farmers \n  \nThis training is endorsed by the Dept of Agriculture\, Food and Marine\, Department of Health and the H.S.E. \n  \nThe Aim of the training is to equip agricultural professionals and service providers of all genders\, who interact with farmers on the farm\, in the office and over the phone with skills to effectively engage with farmers on their health & wellbeing\, and to signpost farmers who may be struggling relevant support services. \n  \nThe E-learning Component: You will receive a link a week before your in-person workshop. You are required to complete the 2hours self-paced E-learning before you into the room. – Wellbeing for Farmers \n  \n 
URL:https://engagetraining.ie/event/on-feirm-ground-2-40/
CATEGORIES:Unit 8.1 On Feirm Ground
END:VEVENT
BEGIN:VEVENT
DTSTART;TZID=Europe/Dublin:20240808T091500
DTEND;TZID=Europe/Dublin:20240808T160000
DTSTAMP:20260420T011027
CREATED:20240704T075542Z
LAST-MODIFIED:20240731T151752Z
UID:10000136-1723108500-1723132800@engagetraining.ie
SUMMARY:On Feirm Ground 2
DESCRIPTION:On Feirm Ground 2 – Wellbeing for Farmers \n  \nThis training is endorsed by the Dept of Agriculture\, Food and Marine\, Department of Health and the H.S.E. \n  \nThe Aim of the training is to equip agricultural professionals and service providers of all genders\, who interact with farmers on the farm\, in the office and over the phone with skills to effectively engage with farmers on their health & wellbeing\, and to signpost farmers who may be struggling relevant support services. \n  \nThe E-learning Component: You will receive a link a week before your in-person workshop. You are required to complete the 2hours self-paced E-learning before you into the room. \n  \n 
URL:https://engagetraining.ie/event/on-feirm-ground-2-23/
CATEGORIES:Unit 8.1 On Feirm Ground
END:VEVENT
BEGIN:VEVENT
DTSTART;TZID=Europe/Dublin:20240730T090000
DTEND;TZID=Europe/Dublin:20240730T153000
DTSTAMP:20260420T011027
CREATED:20240611T081105Z
LAST-MODIFIED:20240715T082126Z
UID:10000130-1722330000-1722353400@engagetraining.ie
SUMMARY:On Feirm Ground 2
DESCRIPTION:On Feirm Ground 2 – Wellbeing for Farmers \n  \nThis training is endorsed by the Dept of Agriculture\, Food and Marine\, Department of Health and the H.S.E. \n  \nThe Aim of the training is to equip agricultural professionals and service providers of all genders\, who interact with farmers on the farm\, in the office and over the phone with skills to effectively engage with farmers on their health & wellbeing\, and to signpost farmers who may be struggling relevant support services. \n  \nThe E-learning Component: You will receive a link a week before your in-person workshop. You are required to complete the 2hours self-paced E-learning before you into the room. \n 
URL:https://engagetraining.ie/event/on-feirm-ground-2-17/
LOCATION:Northside Family Resource Centre (Limerick)\, Limerick\, Limerick\, V94 APX8\, Ireland
CATEGORIES:Unit 8.1 On Feirm Ground
GEO:52.6793213;-8.6439911
END:VEVENT
BEGIN:VEVENT
DTSTART;TZID=Europe/Dublin:20240711T090000
DTEND;TZID=Europe/Dublin:20240711T153000
DTSTAMP:20260420T011027
CREATED:20240607T080207Z
LAST-MODIFIED:20240705T090906Z
UID:10000078-1720688400-1720711800@engagetraining.ie
SUMMARY:On Feirm Ground 2
DESCRIPTION:On Feirm Ground 2 – Wellbeing for Farmers \n  \nThis training is endorsed by the Dept of Agriculture\, Food and Marine\, Department of Health and the H.S.E. \n  \nThe Aim of the training is to equip agricultural professionals and service providers of all genders\, who interact with farmers on the farm\, in the office and over the phone with skills to effectively engage with farmers on their health & wellbeing\, and to signpost farmers who may be struggling relevant support services. \n  \nThe E-learning Component: You will receive a link a week before your in-person workshop. You are required to complete the 2hours self-paced E-learning before you into the room. \n  \n 
URL:https://engagetraining.ie/event/on-feirm-ground-2-15/
LOCATION:Waterford City\, EQUALITY HOUSE 49-50 O'Connell Street\, Waterford\, X91 E866\, Waterford\, Waterford\,\, X91 E866\, Ireland
CATEGORIES:Unit 8.1 On Feirm Ground
GEO:52.2627057;-7.1161453
X-APPLE-STRUCTURED-LOCATION;VALUE=URI;X-ADDRESS=Waterford City EQUALITY HOUSE 49-50 O'Connell Street Waterford X91 E866 Waterford Waterford X91 E866 Ireland;X-APPLE-RADIUS=500;X-TITLE=EQUALITY HOUSE 49-50 O'Connell Street\, Waterford\, X91 E866:geo:-7.1161453,52.2627057
END:VEVENT
BEGIN:VEVENT
DTSTART;TZID=Europe/Dublin:20240702T090000
DTEND;TZID=Europe/Dublin:20240702T153000
DTSTAMP:20260420T011027
CREATED:20240607T075203Z
LAST-MODIFIED:20240607T075203Z
UID:10000076-1719910800-1719934200@engagetraining.ie
SUMMARY:On Feirm Ground 2
DESCRIPTION:On Feirm Ground 2 – Wellbeing for Farmers \n  \nThis training is endorsed by the Dept of Agriculture\, Food and Marine\, Department of Health and the H.S.E. \n  \nThe Aim of the training is to equip agricultural professionals and service providers of all genders\, who interact with farmers on the farm\, in the office and over the phone with skills to effectively engage with farmers on their health & wellbeing\, and to signpost farmers who may be struggling relevant support services. \n  \nThe E-learning Component: You will receive a link a week before your in-person workshop. You are required to complete the 2hours self-paced E-learning before you into the room. \n  \n 
URL:https://engagetraining.ie/event/on-feirm-ground-2-13/
LOCATION:Teagasc Clonakilty Agricultural College\, Clonakilty\, Cork\, P85 AX52\, Ireland
CATEGORIES:Unit 8.1 On Feirm Ground
GEO:51.6294544;-8.8480824
END:VEVENT
BEGIN:VEVENT
DTSTART;TZID=Europe/Dublin:20240620T090000
DTEND;TZID=Europe/Dublin:20240620T153000
DTSTAMP:20260420T011027
CREATED:20240509T084208Z
LAST-MODIFIED:20240613T142022Z
UID:10000072-1718874000-1718897400@engagetraining.ie
SUMMARY:ON FEIRM GROUND 2
DESCRIPTION:On Feirm Ground 2 – Wellbeing for Farmers \n  \nThis training is endorsed by the Dept of Agriculture\, Food and Marine\, Department of Health and the H.S.E. \n  \nThe Aim of the training is to equip agricultural professionals and service providers of all genders\, who interact with farmers on the farm\, in the office and over the phone with skills to effectively engage with farmers on their health & wellbeing\, and to signpost farmers who may be struggling relevant support services. \n  \nThe E-learning Component: You will receive a link a week before your in-person workshop. You are required to complete the 2hours self-paced E-learning before you into the room. \n  \n 
URL:https://engagetraining.ie/event/on-feirm-ground-2-9/
LOCATION:Castlebar\, Co. Mayo\, Mayo Education Centre\, Westport Road\, Castlebar \,Mayo\, F23 HX48\, Castlebar\, Mayo\, F23 HX48\, Ireland
CATEGORIES:Unit 8.1 On Feirm Ground
GEO:53.8482241;-9.3061219
X-APPLE-STRUCTURED-LOCATION;VALUE=URI;X-ADDRESS=Castlebar Co. Mayo Mayo Education Centre Westport Road Castlebar Mayo F23 HX48 Castlebar Mayo F23 HX48 Ireland;X-APPLE-RADIUS=500;X-TITLE=Mayo Education Centre\, Westport Road\, Castlebar \,Mayo\, F23 HX48:geo:-9.3061219,53.8482241
END:VEVENT
BEGIN:VEVENT
DTSTART;TZID=Europe/Dublin:20240530T090000
DTEND;TZID=Europe/Dublin:20240530T153000
DTSTAMP:20260420T011027
CREATED:20240430T104137Z
LAST-MODIFIED:20240430T104258Z
UID:10000070-1717059600-1717083000@engagetraining.ie
SUMMARY:On Feirm Ground 2
DESCRIPTION:On Feirm Ground 2 – Wellbeing for Farmers \n  \nThis training is endorsed by the Dept of Agriculture\, Food and Marine\, Department of Health and the H.S.E. \n  \nThe Aim of the training is to equip agricultural professionals and service providers of all genders\, who interact with farmers on the farm\, in the office and over the phone with skills to effectively engage with farmers on their health & wellbeing\, and to signpost farmers who may be struggling relevant support services. \n  \nThe E-learning Component: You will receive a link a week before your in-person workshop. You are required to complete the 2hours self-paced E-learning before you into the room. \n 
URL:https://engagetraining.ie/event/on-feirm-ground-2-6/
LOCATION:McAuley Place\, Naas\, Sallins Road\, Co. Kildare\, Kildare\, W91 D62E\, Ireland
CATEGORIES:Unit 8.1 On Feirm Ground
GEO:53.2298511;-6.66032
X-APPLE-STRUCTURED-LOCATION;VALUE=URI;X-ADDRESS=McAuley Place Naas Sallins Road Co. Kildare Kildare W91 D62E Ireland;X-APPLE-RADIUS=500;X-TITLE=Sallins Road:geo:-6.66032,53.2298511
END:VEVENT
BEGIN:VEVENT
DTSTART;TZID=Europe/Dublin:20240528T090000
DTEND;TZID=Europe/Dublin:20240528T153000
DTSTAMP:20260420T011027
CREATED:20240405T140007Z
LAST-MODIFIED:20240501T085734Z
UID:10000128-1716886800-1716910200@engagetraining.ie
SUMMARY:ON FEIRM GROUND 2
DESCRIPTION:On Feirm Ground 2 – Wellbeing for Farmers \n  \nThis training is endorsed by the Dept of Agriculture\, Food and Marine\, Department of Health and the H.S.E. \n  \nThe Aim of the training is to equip agricultural professionals and service providers of all genders\, who interact with farmers on the farm\, in the office and over the phone with skills to effectively engage with farmers on their health & wellbeing\, and to signpost farmers who may be struggling relevant support services. \n  \nThe E-learning Component: You will receive a link a week before your in-person workshop. You are required to complete the 2hours self-paced E-learning before you into the room. \n 
URL:https://engagetraining.ie/event/on-feirm-ground-2-5/
LOCATION:Salesian Agricultural College \, Pallaskenry\, Co. Limerick\, Pallaskenry\, Limerick\, V94 V8N3\, Ireland
CATEGORIES:Unit 8.1 On Feirm Ground
GEO:52.6468079;-8.8581395
END:VEVENT
BEGIN:VEVENT
DTSTART;TZID=Europe/Dublin:20240522T090000
DTEND;TZID=Europe/Dublin:20240522T153000
DTSTAMP:20260420T011027
CREATED:20240405T131530Z
LAST-MODIFIED:20240502T131659Z
UID:10000127-1716368400-1716391800@engagetraining.ie
SUMMARY:ON FEIRM GROUND 2
DESCRIPTION:On Feirm Ground 2 – Wellbeing for Farmers \n  \nThis training is endorsed by the Dept of Agriculture\, Food and Marine\, Department of Health and the H.S.E. \n  \nThe Aim of the training is to equip agricultural professionals and service providers of all genders\, who interact with farmers on the farm\, in the office and over the phone with skills to effectively engage with farmers on their health & wellbeing\, and to signpost farmers who may be struggling relevant support services. \n  \nThe E-learning Component: You will receive a link a week before your in-person workshop. You are required to complete the 2hours self-paced E-learning before you into the room. \n  \n 
URL:https://engagetraining.ie/event/on-feirm-ground-2-4/
LOCATION:Athenry\, Co. Galway\, Athenry\, Galway\, Galway\, Ireland
CATEGORIES:Unit 8.1 On Feirm Ground
GEO:53.2878512;-8.7789324
END:VEVENT
BEGIN:VEVENT
DTSTART;TZID=Europe/Dublin:20240521T090000
DTEND;TZID=Europe/Dublin:20240521T153000
DTSTAMP:20260420T011027
CREATED:20240405T125321Z
LAST-MODIFIED:20240501T085916Z
UID:10000126-1716282000-1716305400@engagetraining.ie
SUMMARY:ON FEIRM GROUND 2
DESCRIPTION:On Feirm Ground 2 – Wellbeing for Farmers \n  \nThis training is endorsed by the Dept of Agriculture\, Food and Marine\, Department of Health and the H.S.E. \nThe Aim of the training is to equip agricultural professionals and service providers of all genders\, who interact with farmers on the farm\, in the office and over the phone with skills to effectively engage with farmers on their health & wellbeing\, and to signpost farmers who may be struggling relevant support services. \nThe E-learning Component: You will receive a link a week before your in-person workshop. You are required to complete the 2hours self-paced E-learning before you into the room. \n  \n 
URL:https://engagetraining.ie/event/on-feirm-ground-2-3/
LOCATION:Ballyhaise\, Cavan\, Teagasc\, Ballyhaise Agricultural College\, Cavan\, H12 E392\, Ballyhaise\, Cavan\, Cavan\, H12 E392\, Ireland
CATEGORIES:Unit 8.1 On Feirm Ground
GEO:54.0516916;-7.3116046
X-APPLE-STRUCTURED-LOCATION;VALUE=URI;X-ADDRESS=Ballyhaise Cavan Teagasc Ballyhaise Agricultural College Cavan H12 E392 Ballyhaise Cavan Cavan H12 E392 Ireland;X-APPLE-RADIUS=500;X-TITLE=Teagasc\, Ballyhaise Agricultural College\, Cavan\, H12 E392:geo:-7.3116046,54.0516916
END:VEVENT
BEGIN:VEVENT
DTSTART;TZID=Europe/Dublin:20240509T090000
DTEND;TZID=Europe/Dublin:20240509T153000
DTSTAMP:20260420T011027
CREATED:20240417T120613Z
LAST-MODIFIED:20240507T131820Z
UID:10000069-1715245200-1715268600@engagetraining.ie
SUMMARY:ON FEIRM GROUND 2
DESCRIPTION:On Feirm Ground 2 – Wellbeing for Farmers \nThis training is endorsed by the Dept of Agriculture\, Food and Marine\, Department of Health and the H.S.E. \nThe Aim of the training is to equip agricultural professionals and service providers of all genders\, who interact with farmers on the farm\, in the office and over the phone with skills to effectively engage with farmers on their health & wellbeing\, and to signpost farmers who may be struggling relevant support services. \nThe E-learning Component: You will receive a link a week before your in-person workshop. You are required to complete the 2hours self-paced E-learning before you into the room.
URL:https://engagetraining.ie/event/on-feirm-ground-2-7/
LOCATION:Portlaoise Enterprise Centre\, Portlaoise\, R32 DW97\, Ireland
CATEGORIES:Unit 8.1 On Feirm Ground
GEO:53.0270734;-7.3189873
END:VEVENT
END:VCALENDAR